BEGIN:VCALENDAR
VERSION:2.0
PRODID:-//Norsk strikkeforbund - ECPv6.15.18//NONSGML v1.0//EN
CALSCALE:GREGORIAN
METHOD:PUBLISH
X-ORIGINAL-URL:https://www.norskstrikkeforbund.no
X-WR-CALDESC:Arrangement for Norsk strikkeforbund
REFRESH-INTERVAL;VALUE=DURATION:PT1H
X-Robots-Tag:noindex
X-PUBLISHED-TTL:PT1H
BEGIN:VTIMEZONE
TZID:Europe/Oslo
BEGIN:DAYLIGHT
TZOFFSETFROM:+0100
TZOFFSETTO:+0200
TZNAME:CEST
DTSTART:20250330T010000
END:DAYLIGHT
BEGIN:STANDARD
TZOFFSETFROM:+0200
TZOFFSETTO:+0100
TZNAME:CET
DTSTART:20251026T010000
END:STANDARD
BEGIN:DAYLIGHT
TZOFFSETFROM:+0100
TZOFFSETTO:+0200
TZNAME:CEST
DTSTART:20260329T010000
END:DAYLIGHT
BEGIN:STANDARD
TZOFFSETFROM:+0200
TZOFFSETTO:+0100
TZNAME:CET
DTSTART:20261025T010000
END:STANDARD
BEGIN:DAYLIGHT
TZOFFSETFROM:+0100
TZOFFSETTO:+0200
TZNAME:CEST
DTSTART:20270328T010000
END:DAYLIGHT
BEGIN:STANDARD
TZOFFSETFROM:+0200
TZOFFSETTO:+0100
TZNAME:CET
DTSTART:20271031T010000
END:STANDARD
END:VTIMEZONE
BEGIN:VEVENT
DTSTART;TZID=Europe/Oslo:20260227T150000
DTEND;TZID=Europe/Oslo:20260301T150000
DTSTAMP:20260421T132901
CREATED:20250405T182736Z
LAST-MODIFIED:20250405T182738Z
UID:7073-1772204400-1772377200@www.norskstrikkeforbund.no
SUMMARY:NSFs årsmøte og strikkehelg i Ålesund
DESCRIPTION:Årsmøte i Norsk strikkeforbund blir i vakre Ålesund. Hotellet vi skal ha vårt arrangement på er Scandic Parken som ligger i sentrum av Ålesund. Programmet vil vi komme med i mai/juni og da vil vi også åpne for bestilling.
URL:https://www.norskstrikkeforbund.no/kalender/nsfs-arsmote-og-strikkehelg-i-alesund/
END:VEVENT
BEGIN:VEVENT
DTSTART;TZID=Europe/Oslo:20260313T080000
DTEND;TZID=Europe/Oslo:20260315T170000
DTSTAMP:20260421T132901
CREATED:20250602T063829Z
LAST-MODIFIED:20250602T063831Z
UID:7168-1773388800-1773594000@www.norskstrikkeforbund.no
SUMMARY:Sunnmøre Strikkefestival
DESCRIPTION:Sunnmøre Strikkefestival i Ulsteinvik - se Facebook for mer informasjon
URL:https://www.norskstrikkeforbund.no/kalender/sunnmore-strikkefestival-6/
END:VEVENT
END:VCALENDAR