BEGIN:VCALENDAR
VERSION:2.0
PRODID:-//Norsk strikkeforbund - ECPv6.15.18//NONSGML v1.0//EN
CALSCALE:GREGORIAN
METHOD:PUBLISH
X-ORIGINAL-URL:https://www.norskstrikkeforbund.no
X-WR-CALDESC:Arrangement for Norsk strikkeforbund
REFRESH-INTERVAL;VALUE=DURATION:PT1H
X-Robots-Tag:noindex
X-PUBLISHED-TTL:PT1H
BEGIN:VTIMEZONE
TZID:Europe/Oslo
BEGIN:DAYLIGHT
TZOFFSETFROM:+0100
TZOFFSETTO:+0200
TZNAME:CEST
DTSTART:20240331T010000
END:DAYLIGHT
BEGIN:STANDARD
TZOFFSETFROM:+0200
TZOFFSETTO:+0100
TZNAME:CET
DTSTART:20241027T010000
END:STANDARD
BEGIN:DAYLIGHT
TZOFFSETFROM:+0100
TZOFFSETTO:+0200
TZNAME:CEST
DTSTART:20250330T010000
END:DAYLIGHT
BEGIN:STANDARD
TZOFFSETFROM:+0200
TZOFFSETTO:+0100
TZNAME:CET
DTSTART:20251026T010000
END:STANDARD
BEGIN:DAYLIGHT
TZOFFSETFROM:+0100
TZOFFSETTO:+0200
TZNAME:CEST
DTSTART:20260329T010000
END:DAYLIGHT
BEGIN:STANDARD
TZOFFSETFROM:+0200
TZOFFSETTO:+0100
TZNAME:CET
DTSTART:20261025T010000
END:STANDARD
END:VTIMEZONE
BEGIN:VEVENT
DTSTART;TZID=Europe/Oslo:20250912T080000
DTEND;TZID=Europe/Oslo:20250914T170000
DTSTAMP:20260421T220712
CREATED:20241011T191230Z
LAST-MODIFIED:20241011T191232Z
UID:6819-1757664000-1757869200@www.norskstrikkeforbund.no
SUMMARY:Strikkefestivalen i Fredrikstad
DESCRIPTION:Strikkefestivalen i Fredrikstad arrangeres i Gamlebyen i Fredrikstad. For mer informasjon om arrangementet\, se www.strikkefestivalen.no.
URL:https://www.norskstrikkeforbund.no/kalender/strikkefestivalen-i-fredrikstad-9/
END:VEVENT
BEGIN:VEVENT
DTSTART;TZID=Europe/Oslo:20250918T190000
DTEND;TZID=Europe/Oslo:20250918T203000
DTSTAMP:20260421T220712
CREATED:20250909T201824Z
LAST-MODIFIED:20250909T201827Z
UID:7239-1758222000-1758227400@www.norskstrikkeforbund.no
SUMMARY:Digitalt foredrag med Denise Samson
DESCRIPTION:Denise Samson holder foredraget "Fra idé til ferdig produkt" for medlemmer av Norsk Strikkeforbund. E-post med lenke til foredraget sendes ut når det nærmer seg.
URL:https://www.norskstrikkeforbund.no/kalender/digitalt-foredrag-med-denise-samson/
END:VEVENT
BEGIN:VEVENT
DTSTART;TZID=Europe/Oslo:20250919T080000
DTEND;TZID=Europe/Oslo:20250920T170000
DTSTAMP:20260421T220712
CREATED:20241028T100852Z
LAST-MODIFIED:20241028T100854Z
UID:6873-1758268800-1758387600@www.norskstrikkeforbund.no
SUMMARY:Halden strikkefestival
DESCRIPTION:Strikkefestival i kulturhuset i Halden. Hold av dagene!
URL:https://www.norskstrikkeforbund.no/kalender/halden-strikkefestival-3/
END:VEVENT
BEGIN:VEVENT
DTSTART;TZID=Europe/Oslo:20250925T190000
DTEND;TZID=Europe/Oslo:20250925T210000
DTSTAMP:20260421T220712
CREATED:20250405T185417Z
LAST-MODIFIED:20250405T185419Z
UID:7101-1758826800-1758834000@www.norskstrikkeforbund.no
SUMMARY:Styremøte - NSF
DESCRIPTION:
URL:https://www.norskstrikkeforbund.no/kalender/styremote-nsf-12/
END:VEVENT
BEGIN:VEVENT
DTSTART;TZID=Europe/Oslo:20250926T080000
DTEND;TZID=Europe/Oslo:20250928T170000
DTSTAMP:20260421T220712
CREATED:20241129T164456Z
LAST-MODIFIED:20241129T164500Z
UID:6924-1758873600-1759078800@www.norskstrikkeforbund.no
SUMMARY:Bergen Strikkefestival 2025
DESCRIPTION:Bergen Strikkefestival 2025 arrangeres på Salhus. Følg med på Facebook for mer informasjon.
URL:https://www.norskstrikkeforbund.no/kalender/bergen-strikkefestival-2025/
END:VEVENT
END:VCALENDAR