BEGIN:VCALENDAR
VERSION:2.0
PRODID:-//Norsk strikkeforbund - ECPv6.15.18//NONSGML v1.0//EN
CALSCALE:GREGORIAN
METHOD:PUBLISH
X-WR-CALNAME:Norsk strikkeforbund
X-ORIGINAL-URL:https://www.norskstrikkeforbund.no
X-WR-CALDESC:Arrangement for Norsk strikkeforbund
REFRESH-INTERVAL;VALUE=DURATION:PT1H
X-Robots-Tag:noindex
X-PUBLISHED-TTL:PT1H
BEGIN:VTIMEZONE
TZID:Europe/Oslo
BEGIN:DAYLIGHT
TZOFFSETFROM:+0100
TZOFFSETTO:+0200
TZNAME:CEST
DTSTART:20240331T010000
END:DAYLIGHT
BEGIN:STANDARD
TZOFFSETFROM:+0200
TZOFFSETTO:+0100
TZNAME:CET
DTSTART:20241027T010000
END:STANDARD
BEGIN:DAYLIGHT
TZOFFSETFROM:+0100
TZOFFSETTO:+0200
TZNAME:CEST
DTSTART:20250330T010000
END:DAYLIGHT
BEGIN:STANDARD
TZOFFSETFROM:+0200
TZOFFSETTO:+0100
TZNAME:CET
DTSTART:20251026T010000
END:STANDARD
BEGIN:DAYLIGHT
TZOFFSETFROM:+0100
TZOFFSETTO:+0200
TZNAME:CEST
DTSTART:20260329T010000
END:DAYLIGHT
BEGIN:STANDARD
TZOFFSETFROM:+0200
TZOFFSETTO:+0100
TZNAME:CET
DTSTART:20261025T010000
END:STANDARD
END:VTIMEZONE
BEGIN:VEVENT
DTSTART;TZID=Europe/Oslo:20250610T190000
DTEND;TZID=Europe/Oslo:20250610T203000
DTSTAMP:20260422T025229
CREATED:20250405T183802Z
LAST-MODIFIED:20250405T183804Z
UID:7080-1749582000-1749587400@www.norskstrikkeforbund.no
SUMMARY:Digital strikkekafé - NSF
DESCRIPTION:Anne Lise Edvardsen og Thrine Merethe Broch inviterer til digital strikkekafé på Zoom.
URL:https://www.norskstrikkeforbund.no/kalender/digital-strikkekafe-nsf-11/
END:VEVENT
BEGIN:VEVENT
DTSTART;TZID=Europe/Oslo:20250611T170000
DTEND;TZID=Europe/Oslo:20250611T210000
DTSTAMP:20260422T025229
CREATED:20250211T204213Z
LAST-MODIFIED:20250211T204215Z
UID:7001-1749661200-1749675600@www.norskstrikkeforbund.no
SUMMARY:Strikk med meg på Vevang Aktiv
DESCRIPTION:Sosial strikkekveld på Vevang Aktiv hver andre onsdag i måneden. For mer informasjon\, se Facebook.https://fb.me/e/esxyF7wPI
URL:https://www.norskstrikkeforbund.no/kalender/strikk-med-meg-pa-vevang-aktiv-5/
END:VEVENT
BEGIN:VEVENT
DTSTART;TZID=Europe/Oslo:20250614T000100
DTEND;TZID=Europe/Oslo:20250614T235900
DTSTAMP:20260422T025229
CREATED:20241011T191705Z
LAST-MODIFIED:20241011T191930Z
UID:6821-1749859260-1749945540@www.norskstrikkeforbund.no
SUMMARY:Verdens strikkedag - Knit In Public Day 2025
DESCRIPTION:Verdens strikkedag markeres over hele verden og også i Norge. Les mer her: https://www.daysoftheyear.com/days/worldwide-knit-in-public-day/.Arrangementer i Norge vil annonseres i kalenderen. Send inn opplysninger om lokale arrangementer til sekretar@norskstrikkeforbund.no.
URL:https://www.norskstrikkeforbund.no/kalender/verdens-strikkedag-knit-in-public-day-2025/
END:VEVENT
BEGIN:VEVENT
DTSTART;TZID=Europe/Oslo:20250619T190000
DTEND;TZID=Europe/Oslo:20250619T210000
DTSTAMP:20260422T025229
CREATED:20250405T185047Z
LAST-MODIFIED:20250405T185049Z
UID:7097-1750359600-1750366800@www.norskstrikkeforbund.no
SUMMARY:Styremøte - NSF
DESCRIPTION:
URL:https://www.norskstrikkeforbund.no/kalender/styremote-nsf-10/
END:VEVENT
END:VCALENDAR