BEGIN:VCALENDAR
VERSION:2.0
PRODID:-//Norsk strikkeforbund - ECPv6.15.18//NONSGML v1.0//EN
CALSCALE:GREGORIAN
METHOD:PUBLISH
X-ORIGINAL-URL:https://www.norskstrikkeforbund.no
X-WR-CALDESC:Arrangement for Norsk strikkeforbund
REFRESH-INTERVAL;VALUE=DURATION:PT1H
X-Robots-Tag:noindex
X-PUBLISHED-TTL:PT1H
BEGIN:VTIMEZONE
TZID:Europe/Oslo
BEGIN:DAYLIGHT
TZOFFSETFROM:+0100
TZOFFSETTO:+0200
TZNAME:CEST
DTSTART:20240331T010000
END:DAYLIGHT
BEGIN:STANDARD
TZOFFSETFROM:+0200
TZOFFSETTO:+0100
TZNAME:CET
DTSTART:20241027T010000
END:STANDARD
BEGIN:DAYLIGHT
TZOFFSETFROM:+0100
TZOFFSETTO:+0200
TZNAME:CEST
DTSTART:20250330T010000
END:DAYLIGHT
BEGIN:STANDARD
TZOFFSETFROM:+0200
TZOFFSETTO:+0100
TZNAME:CET
DTSTART:20251026T010000
END:STANDARD
BEGIN:DAYLIGHT
TZOFFSETFROM:+0100
TZOFFSETTO:+0200
TZNAME:CEST
DTSTART:20260329T010000
END:DAYLIGHT
BEGIN:STANDARD
TZOFFSETFROM:+0200
TZOFFSETTO:+0100
TZNAME:CET
DTSTART:20261025T010000
END:STANDARD
END:VTIMEZONE
BEGIN:VEVENT
DTSTART;TZID=Europe/Oslo:20250503T080000
DTEND;TZID=Europe/Oslo:20250504T170000
DTSTAMP:20260422T040955
CREATED:20241209T185748Z
LAST-MODIFIED:20241209T185752Z
UID:6931-1746259200-1746378000@www.norskstrikkeforbund.no
SUMMARY:Strikketreff i Tromsø
DESCRIPTION:For mer informasjon\, se Facebook
URL:https://www.norskstrikkeforbund.no/kalender/strikketreff-i-tromso-3/
END:VEVENT
BEGIN:VEVENT
DTSTART;TZID=Europe/Oslo:20250503T110000
DTEND;TZID=Europe/Oslo:20250503T160000
DTSTAMP:20260422T040955
CREATED:20241228T122624Z
LAST-MODIFIED:20241228T122626Z
UID:6964-1746270000-1746288000@www.norskstrikkeforbund.no
SUMMARY:Hvaler Strikkefestival
DESCRIPTION:Strikkefestivalen er i Floren kulturhus i Skjærhalden. Se Facebook for mer informasjon.
URL:https://www.norskstrikkeforbund.no/kalender/hvaler-strikkefestival-2/
END:VEVENT
BEGIN:VEVENT
DTSTART;TZID=Europe/Oslo:20250514T170000
DTEND;TZID=Europe/Oslo:20250514T210000
DTSTAMP:20260422T040955
CREATED:20250211T204051Z
LAST-MODIFIED:20250211T204053Z
UID:6999-1747242000-1747256400@www.norskstrikkeforbund.no
SUMMARY:Strikk med meg på Vevang Aktiv
DESCRIPTION:Sosial strikkekveld på Vevang Aktiv hver andre onsdag i måneden. For mer informasjon\, se Facebook.https://fb.me/e/esxyF7wPI
URL:https://www.norskstrikkeforbund.no/kalender/strikk-med-meg-pa-vevang-aktiv-4/
END:VEVENT
BEGIN:VEVENT
DTSTART;TZID=Europe/Oslo:20250522T190000
DTEND;TZID=Europe/Oslo:20250522T210000
DTSTAMP:20260422T040955
CREATED:20250405T185008Z
LAST-MODIFIED:20250405T185009Z
UID:7095-1747940400-1747947600@www.norskstrikkeforbund.no
SUMMARY:Styremøte - NSF
DESCRIPTION:
URL:https://www.norskstrikkeforbund.no/kalender/styremote-nsf-9/
END:VEVENT
BEGIN:VEVENT
DTSTART;TZID=Europe/Oslo:20250528T190000
DTEND;TZID=Europe/Oslo:20250528T203000
DTSTAMP:20260422T040955
CREATED:20250405T183443Z
LAST-MODIFIED:20250405T183444Z
UID:7077-1748458800-1748464200@www.norskstrikkeforbund.no
SUMMARY:Digitalt foredrag med Ingun Klepp
DESCRIPTION:Denise Samson og Hanne Bornø er vertinner når det skal være foredrag med Ingun Klepp på Zoom.
URL:https://www.norskstrikkeforbund.no/kalender/digitalt-foredrag-med-ingun-klepp/
END:VEVENT
END:VCALENDAR