BEGIN:VCALENDAR
VERSION:2.0
PRODID:-//Norsk strikkeforbund - ECPv6.15.18//NONSGML v1.0//EN
CALSCALE:GREGORIAN
METHOD:PUBLISH
X-WR-CALNAME:Norsk strikkeforbund
X-ORIGINAL-URL:https://www.norskstrikkeforbund.no
X-WR-CALDESC:Arrangement for Norsk strikkeforbund
REFRESH-INTERVAL;VALUE=DURATION:PT1H
X-Robots-Tag:noindex
X-PUBLISHED-TTL:PT1H
BEGIN:VTIMEZONE
TZID:Europe/Oslo
BEGIN:DAYLIGHT
TZOFFSETFROM:+0100
TZOFFSETTO:+0200
TZNAME:CEST
DTSTART:20230326T010000
END:DAYLIGHT
BEGIN:STANDARD
TZOFFSETFROM:+0200
TZOFFSETTO:+0100
TZNAME:CET
DTSTART:20231029T010000
END:STANDARD
BEGIN:DAYLIGHT
TZOFFSETFROM:+0100
TZOFFSETTO:+0200
TZNAME:CEST
DTSTART:20240331T010000
END:DAYLIGHT
BEGIN:STANDARD
TZOFFSETFROM:+0200
TZOFFSETTO:+0100
TZNAME:CET
DTSTART:20241027T010000
END:STANDARD
BEGIN:DAYLIGHT
TZOFFSETFROM:+0100
TZOFFSETTO:+0200
TZNAME:CEST
DTSTART:20250330T010000
END:DAYLIGHT
BEGIN:STANDARD
TZOFFSETFROM:+0200
TZOFFSETTO:+0100
TZNAME:CET
DTSTART:20251026T010000
END:STANDARD
END:VTIMEZONE
BEGIN:VEVENT
DTSTART;TZID=Europe/Oslo:20241012T100000
DTEND;TZID=Europe/Oslo:20241012T150000
DTSTAMP:20260421T194100
CREATED:20240809T215525Z
LAST-MODIFIED:20240809T215526Z
UID:6698-1728727200-1728745200@www.norskstrikkeforbund.no
SUMMARY:Strikkernes Høstmarked på Sentralen i Oslo
DESCRIPTION:Du finner mer informasjon på Facebook-siden Strikkernes Marked og på strikkernesmarked.no
URL:https://www.norskstrikkeforbund.no/kalender/strikkernes-hostmarked-pa-sentralen-i-oslo/
END:VEVENT
BEGIN:VEVENT
DTSTART;TZID=Europe/Oslo:20241014T190000
DTEND;TZID=Europe/Oslo:20241014T210000
DTSTAMP:20260421T194100
CREATED:20240423T211821Z
LAST-MODIFIED:20240423T211823Z
UID:6512-1728932400-1728939600@www.norskstrikkeforbund.no
SUMMARY:Styremøte NSF
DESCRIPTION:
URL:https://www.norskstrikkeforbund.no/kalender/styremote-nsf-5/
END:VEVENT
BEGIN:VEVENT
DTSTART;TZID=Europe/Oslo:20241016T080000
DTEND;TZID=Europe/Oslo:20241016T170000
DTSTAMP:20260421T194100
CREATED:20240404T154645Z
LAST-MODIFIED:20240404T154649Z
UID:6454-1729065600-1729098000@www.norskstrikkeforbund.no
SUMMARY:NM i Gåstrikk på Vippetangen\, Oslo
DESCRIPTION:
URL:https://www.norskstrikkeforbund.no/kalender/nm-i-gastrikk-pa-vippetangen-oslo/
END:VEVENT
BEGIN:VEVENT
DTSTART;TZID=Europe/Oslo:20241018T100000
DTEND;TZID=Europe/Oslo:20241018T200000
DTSTAMP:20260421T194100
CREATED:20231214T105820Z
LAST-MODIFIED:20231214T105821Z
UID:6027-1729245600-1729281600@www.norskstrikkeforbund.no
SUMMARY:STAVANGER STRIKKEFESTIVAL
DESCRIPTION:
URL:https://www.norskstrikkeforbund.no/kalender/stavanger-strikkefestival-4/
END:VEVENT
BEGIN:VEVENT
DTSTART;TZID=Europe/Oslo:20241019T100000
DTEND;TZID=Europe/Oslo:20241019T220000
DTSTAMP:20260421T194100
CREATED:20231214T105924Z
LAST-MODIFIED:20231214T105925Z
UID:6029-1729332000-1729375200@www.norskstrikkeforbund.no
SUMMARY:STAVANGER STRIKKEFESTIVAL
DESCRIPTION:
URL:https://www.norskstrikkeforbund.no/kalender/stavanger-strikkefestival-5/
END:VEVENT
BEGIN:VEVENT
DTSTART;TZID=Europe/Oslo:20241020T100000
DTEND;TZID=Europe/Oslo:20241020T160000
DTSTAMP:20260421T194100
CREATED:20231214T110018Z
LAST-MODIFIED:20231214T110020Z
UID:6031-1729418400-1729440000@www.norskstrikkeforbund.no
SUMMARY:STAVANGER STRIKKEFESTIVAL
DESCRIPTION:
URL:https://www.norskstrikkeforbund.no/kalender/stavanger-strikkefestival-6/
END:VEVENT
BEGIN:VEVENT
DTSTART;TZID=Europe/Oslo:20241021T133000
DTEND;TZID=Europe/Oslo:20241024T132500
DTSTAMP:20260421T194100
CREATED:20240926T084228Z
LAST-MODIFIED:20240926T084230Z
UID:6789-1729517400-1729776300@www.norskstrikkeforbund.no
SUMMARY:StrikkeCruise med Fjordline
DESCRIPTION:Fra Bergen og Stavanger 21. oktober 2024 \n\n\n\nwww.fjordline.com/nb/tilbud-batreiser/19897/strikkecruise-fra-bergen-og-stavangerMer info finnes også på Facebook: https://fb.me/e/6T7gw33et
URL:https://www.norskstrikkeforbund.no/kalender/strikkecruise-med-fjordline/
END:VEVENT
BEGIN:VEVENT
DTSTART;TZID=Europe/Oslo:20241022T143000
DTEND;TZID=Europe/Oslo:20241024T235959
DTSTAMP:20260421T194100
CREATED:20240926T084706Z
LAST-MODIFIED:20240926T084708Z
UID:6791-1729607400-1729814399@www.norskstrikkeforbund.no
SUMMARY:StrikkeCruise med Fjordline
DESCRIPTION:Fra Kristiansand 22. oktober 2024 \n\n\n\nwww.fjordline.com/nb/tilbud-batreiser/5136/strikkecruise-fra-kristiansand \n\n\n\nMer info finnes også på Facebook: https://fb.me/e/6T7gw33et
URL:https://www.norskstrikkeforbund.no/kalender/strikkecruise-med-fjordline-2/
END:VEVENT
BEGIN:VEVENT
DTSTART;TZID=Europe/Oslo:20241023T190000
DTEND;TZID=Europe/Oslo:20241023T210000
DTSTAMP:20260421T194100
CREATED:20240506T194834Z
LAST-MODIFIED:20241014T192405Z
UID:6526-1729710000-1729717200@www.norskstrikkeforbund.no
SUMMARY:Digital strikkekafé - NSF
DESCRIPTION:Eksklusivt på denne strikkekafeen er foredraget til Marit B. Henriksen om samiske votter. Samiske votter er pågående samstrikk i NSF\, så foredraget er tidsaktuelt. Strikkekafeen er gratis for medlemmer og krever ingen påmelding. Lenke til strikkekafeen sendes ut på e-post i forkant til alle medlemmer.
URL:https://www.norskstrikkeforbund.no/kalender/digital-strikkekafe-nsf-4/
END:VEVENT
BEGIN:VEVENT
DTSTART;TZID=Europe/Oslo:20241025T100000
DTEND;TZID=Europe/Oslo:20241025T210000
DTSTAMP:20260421T194100
CREATED:20231214T110253Z
LAST-MODIFIED:20241011T183259Z
UID:6033-1729850400-1729890000@www.norskstrikkeforbund.no
SUMMARY:STRIKKEHELG PÅ GEILO (Vestlia Resort)
DESCRIPTION:
URL:https://www.norskstrikkeforbund.no/kalender/strikkehelg-pa-geilo-vestlia-resort/
END:VEVENT
BEGIN:VEVENT
DTSTART;TZID=Europe/Oslo:20241026T100000
DTEND;TZID=Europe/Oslo:20241026T230000
DTSTAMP:20260421T194100
CREATED:20231214T110340Z
LAST-MODIFIED:20231214T110342Z
UID:6035-1729936800-1729983600@www.norskstrikkeforbund.no
SUMMARY:STRIKKEHELG PÅ GEILO (Vestlia Resort)
DESCRIPTION:
URL:https://www.norskstrikkeforbund.no/kalender/strikkehelg-pa-geilo-vestlia-resort-2/
END:VEVENT
BEGIN:VEVENT
DTSTART;TZID=Europe/Oslo:20241027T100000
DTEND;TZID=Europe/Oslo:20241027T160000
DTSTAMP:20260421T194100
CREATED:20231214T110435Z
LAST-MODIFIED:20231214T110437Z
UID:6037-1730023200-1730044800@www.norskstrikkeforbund.no
SUMMARY:STRIKKEHELG PÅ GEILO (Vestlia Resort)
DESCRIPTION:
URL:https://www.norskstrikkeforbund.no/kalender/strikkehelg-pa-geilo-vestlia-resort-3/
END:VEVENT
END:VCALENDAR