BEGIN:VCALENDAR
VERSION:2.0
PRODID:-//Norsk strikkeforbund - ECPv6.15.18//NONSGML v1.0//EN
CALSCALE:GREGORIAN
METHOD:PUBLISH
X-ORIGINAL-URL:https://www.norskstrikkeforbund.no
X-WR-CALDESC:Arrangement for Norsk strikkeforbund
REFRESH-INTERVAL;VALUE=DURATION:PT1H
X-Robots-Tag:noindex
X-PUBLISHED-TTL:PT1H
BEGIN:VTIMEZONE
TZID:Europe/Oslo
BEGIN:DAYLIGHT
TZOFFSETFROM:+0100
TZOFFSETTO:+0200
TZNAME:CEST
DTSTART:20230326T010000
END:DAYLIGHT
BEGIN:STANDARD
TZOFFSETFROM:+0200
TZOFFSETTO:+0100
TZNAME:CET
DTSTART:20231029T010000
END:STANDARD
BEGIN:DAYLIGHT
TZOFFSETFROM:+0100
TZOFFSETTO:+0200
TZNAME:CEST
DTSTART:20240331T010000
END:DAYLIGHT
BEGIN:STANDARD
TZOFFSETFROM:+0200
TZOFFSETTO:+0100
TZNAME:CET
DTSTART:20241027T010000
END:STANDARD
BEGIN:DAYLIGHT
TZOFFSETFROM:+0100
TZOFFSETTO:+0200
TZNAME:CEST
DTSTART:20250330T010000
END:DAYLIGHT
BEGIN:STANDARD
TZOFFSETFROM:+0200
TZOFFSETTO:+0100
TZNAME:CET
DTSTART:20251026T010000
END:STANDARD
END:VTIMEZONE
BEGIN:VEVENT
DTSTART;TZID=Europe/Oslo:20240911T190000
DTEND;TZID=Europe/Oslo:20240911T210000
DTSTAMP:20260421T211122
CREATED:20240423T211739Z
LAST-MODIFIED:20240610T183249Z
UID:6510-1726081200-1726088400@www.norskstrikkeforbund.no
SUMMARY:Styremøte NSF
DESCRIPTION:
URL:https://www.norskstrikkeforbund.no/kalender/styremote-nsf-4/
END:VEVENT
BEGIN:VEVENT
DTSTART;TZID=Europe/Oslo:20240913T080000
DTEND;TZID=Europe/Oslo:20240914T170000
DTSTAMP:20260421T211122
CREATED:20240911T192721Z
LAST-MODIFIED:20240911T192725Z
UID:6743-1726214400-1726333200@www.norskstrikkeforbund.no
SUMMARY:Lurøy strikkefestival – 10 år i 2024!
DESCRIPTION:Se på https://www.luroystrikkefestival.no for mer informasjon!
URL:https://www.norskstrikkeforbund.no/kalender/luroy-strikkefestival-10-ar-i-2024/
END:VEVENT
BEGIN:VEVENT
DTSTART;TZID=Europe/Oslo:20240913T100000
DTEND;TZID=Europe/Oslo:20240913T200000
DTSTAMP:20260421T211122
CREATED:20231214T105224Z
LAST-MODIFIED:20231214T105226Z
UID:6017-1726221600-1726257600@www.norskstrikkeforbund.no
SUMMARY:STRIKKEFESTIVALEN I FREDRIKSTAD
DESCRIPTION:
URL:https://www.norskstrikkeforbund.no/kalender/strikkefestivalen-i-fredrikstad-6/
END:VEVENT
BEGIN:VEVENT
DTSTART;TZID=Europe/Oslo:20240913T150000
DTEND;TZID=Europe/Oslo:20240913T200000
DTSTAMP:20260421T211122
CREATED:20231214T104906Z
LAST-MODIFIED:20231214T104908Z
UID:6011-1726239600-1726257600@www.norskstrikkeforbund.no
SUMMARY:Strikketreff på Golsfjellet Fjellstue
DESCRIPTION:
URL:https://www.norskstrikkeforbund.no/kalender/strikketreff-pa-golsfjellet-fjellstue/
END:VEVENT
BEGIN:VEVENT
DTSTART;TZID=Europe/Oslo:20240914T080000
DTEND;TZID=Europe/Oslo:20240915T170000
DTSTAMP:20260421T211122
CREATED:20240514T204558Z
LAST-MODIFIED:20240514T204559Z
UID:6552-1726300800-1726419600@www.norskstrikkeforbund.no
SUMMARY:Stitsjorama 2024 på Hamar
DESCRIPTION:Arrangementet er i Hamar kulturhus. Søk opp arrangementet på Facebook for mer informasjon.
URL:https://www.norskstrikkeforbund.no/kalender/stitsjorama-2024-pa-hamar/
END:VEVENT
BEGIN:VEVENT
DTSTART;TZID=Europe/Oslo:20240914T090000
DTEND;TZID=Europe/Oslo:20240914T150000
DTSTAMP:20260421T211122
CREATED:20240131T201259Z
LAST-MODIFIED:20240131T201302Z
UID:6375-1726304400-1726326000@www.norskstrikkeforbund.no
SUMMARY:Strikkeweekend Stjørdal 2024
DESCRIPTION:Holdes på Sure Hotel Trondheim Airport
URL:https://www.norskstrikkeforbund.no/kalender/strikkeweekend-stjordal-2024/
END:VEVENT
BEGIN:VEVENT
DTSTART;TZID=Europe/Oslo:20240914T100000
DTEND;TZID=Europe/Oslo:20240914T200000
DTSTAMP:20260421T211122
CREATED:20231214T104957Z
LAST-MODIFIED:20231214T104958Z
UID:6013-1726308000-1726344000@www.norskstrikkeforbund.no
SUMMARY:Strikketreff på Golsfjellet Fjellstue
DESCRIPTION:
URL:https://www.norskstrikkeforbund.no/kalender/strikketreff-pa-golsfjellet-fjellstue-2/
END:VEVENT
BEGIN:VEVENT
DTSTART;TZID=Europe/Oslo:20240914T100000
DTEND;TZID=Europe/Oslo:20240914T200000
DTSTAMP:20260421T211122
CREATED:20231214T105341Z
LAST-MODIFIED:20231214T105343Z
UID:6019-1726308000-1726344000@www.norskstrikkeforbund.no
SUMMARY:STRIKKEFESTIVALEN I FREDRIKSTAD
DESCRIPTION:
URL:https://www.norskstrikkeforbund.no/kalender/strikkefestivalen-i-fredrikstad-7/
END:VEVENT
BEGIN:VEVENT
DTSTART;TZID=Europe/Oslo:20240915T100000
DTEND;TZID=Europe/Oslo:20240915T150000
DTSTAMP:20260421T211122
CREATED:20231214T105041Z
LAST-MODIFIED:20231214T105042Z
UID:6015-1726394400-1726412400@www.norskstrikkeforbund.no
SUMMARY:Strikketreff på Golsfjellet Fjellstue
DESCRIPTION:
URL:https://www.norskstrikkeforbund.no/kalender/strikketreff-pa-golsfjellet-fjellstue-3/
END:VEVENT
BEGIN:VEVENT
DTSTART;TZID=Europe/Oslo:20240915T100000
DTEND;TZID=Europe/Oslo:20240915T160000
DTSTAMP:20260421T211122
CREATED:20231214T105421Z
LAST-MODIFIED:20231214T105422Z
UID:6021-1726394400-1726416000@www.norskstrikkeforbund.no
SUMMARY:STRIKKEFESTIVALEN I FREDRIKSTAD
DESCRIPTION:
URL:https://www.norskstrikkeforbund.no/kalender/strikkefestivalen-i-fredrikstad-8/
END:VEVENT
BEGIN:VEVENT
DTSTART;TZID=Europe/Oslo:20240915T100000
DTEND;TZID=Europe/Oslo:20240915T160000
DTSTAMP:20260421T211122
CREATED:20240131T201414Z
LAST-MODIFIED:20240131T201416Z
UID:6377-1726394400-1726416000@www.norskstrikkeforbund.no
SUMMARY:Strikkeweekend Stjørdal 2024
DESCRIPTION:Sure Hotel Trondheim Airport
URL:https://www.norskstrikkeforbund.no/kalender/strikkeweekend-stjordal-2024-2/
END:VEVENT
BEGIN:VEVENT
DTSTART;TZID=Europe/Oslo:20240915T110000
DTEND;TZID=Europe/Oslo:20240915T200000
DTSTAMP:20260421T211122
CREATED:20240703T091656Z
LAST-MODIFIED:20240703T091657Z
UID:6670-1726398000-1726430400@www.norskstrikkeforbund.no
SUMMARY:Strikkefestival @ Ogna Scene
DESCRIPTION:Ogna´s største strikkekafé. Søk opp på Facebook for mer informasjon.
URL:https://www.norskstrikkeforbund.no/kalender/strikkefestival-ogna-scene/
END:VEVENT
BEGIN:VEVENT
DTSTART;TZID=Europe/Oslo:20240916T080000
DTEND;TZID=Europe/Oslo:20240918T170000
DTSTAMP:20260421T211122
CREATED:20240404T155519Z
LAST-MODIFIED:20240404T155522Z
UID:6458-1726473600-1726678800@www.norskstrikkeforbund.no
SUMMARY:StrikkeCruise på DFDS
DESCRIPTION:
URL:https://www.norskstrikkeforbund.no/kalender/strikkecruise-pa-dfds/
END:VEVENT
BEGIN:VEVENT
DTSTART;TZID=Europe/Oslo:20240916T190000
DTEND;TZID=Europe/Oslo:20240916T210000
DTSTAMP:20260421T211122
CREATED:20240506T194739Z
LAST-MODIFIED:20240506T194740Z
UID:6524-1726513200-1726520400@www.norskstrikkeforbund.no
SUMMARY:Digital strikkekafé - NSF
DESCRIPTION:
URL:https://www.norskstrikkeforbund.no/kalender/digital-strikkekafe-nsf-3/
END:VEVENT
BEGIN:VEVENT
DTSTART;TZID=Europe/Oslo:20240921T110000
DTEND;TZID=Europe/Oslo:20240922T150000
DTSTAMP:20260421T211122
CREATED:20240423T194836Z
LAST-MODIFIED:20240423T194838Z
UID:6495-1726916400-1727017200@www.norskstrikkeforbund.no
SUMMARY:Strikketreff på Bardufoss
DESCRIPTION:Arrangementet foregår på Bardufosstun fra lørdag kl. 11.00 til søndag kl. 15.00 \n\n\n\nhttps://www.facebook.com/groups/1157936920967453 \n\n\n\nhttps://www.bardufosstun.no/
URL:https://www.norskstrikkeforbund.no/kalender/strikketreff-pa-bardufoss/
END:VEVENT
BEGIN:VEVENT
DTSTART;TZID=Europe/Oslo:20240927T100000
DTEND;TZID=Europe/Oslo:20240927T180000
DTSTAMP:20260421T211122
CREATED:20240112T201305Z
LAST-MODIFIED:20240112T201308Z
UID:6178-1727431200-1727460000@www.norskstrikkeforbund.no
SUMMARY:Halden Strikkefestival
DESCRIPTION:
URL:https://www.norskstrikkeforbund.no/kalender/halden-strikkefestival/
END:VEVENT
BEGIN:VEVENT
DTSTART;TZID=Europe/Oslo:20240927T100000
DTEND;TZID=Europe/Oslo:20240929T170000
DTSTAMP:20260421T211122
CREATED:20240604T190917Z
LAST-MODIFIED:20240604T190920Z
UID:6585-1727431200-1727629200@www.norskstrikkeforbund.no
SUMMARY:Bergen Strikkefestival
DESCRIPTION:Les mer her: https://muho.no/tekstilindustrimuseet/bergenstrikkefestival
URL:https://www.norskstrikkeforbund.no/kalender/bergen-strikkefestival-7/
END:VEVENT
BEGIN:VEVENT
DTSTART;TZID=Europe/Oslo:20240928T100000
DTEND;TZID=Europe/Oslo:20240928T180000
DTSTAMP:20260421T211122
CREATED:20231214T105603Z
LAST-MODIFIED:20231214T105604Z
UID:6023-1727517600-1727546400@www.norskstrikkeforbund.no
SUMMARY:STRIKKEFESTIVALEN I BODØ
DESCRIPTION:
URL:https://www.norskstrikkeforbund.no/kalender/strikkefestivalen-i-bodo/
END:VEVENT
BEGIN:VEVENT
DTSTART;TZID=Europe/Oslo:20240928T100000
DTEND;TZID=Europe/Oslo:20240928T200000
DTSTAMP:20260421T211122
CREATED:20240112T201355Z
LAST-MODIFIED:20240112T201357Z
UID:6180-1727517600-1727553600@www.norskstrikkeforbund.no
SUMMARY:Halden Strikkefestival
DESCRIPTION:
URL:https://www.norskstrikkeforbund.no/kalender/halden-strikkefestival-2/
END:VEVENT
BEGIN:VEVENT
DTSTART;TZID=Europe/Oslo:20240929T100000
DTEND;TZID=Europe/Oslo:20240929T150000
DTSTAMP:20260421T211122
CREATED:20231214T105640Z
LAST-MODIFIED:20231214T105642Z
UID:6025-1727604000-1727622000@www.norskstrikkeforbund.no
SUMMARY:STRIKKEFESTIVALEN I BODØ
DESCRIPTION:
URL:https://www.norskstrikkeforbund.no/kalender/strikkefestivalen-i-bodo-2/
END:VEVENT
END:VCALENDAR