BEGIN:VCALENDAR
VERSION:2.0
PRODID:-//Norsk strikkeforbund - ECPv6.15.18//NONSGML v1.0//EN
CALSCALE:GREGORIAN
METHOD:PUBLISH
X-WR-CALNAME:Norsk strikkeforbund
X-ORIGINAL-URL:https://www.norskstrikkeforbund.no
X-WR-CALDESC:Arrangement for Norsk strikkeforbund
REFRESH-INTERVAL;VALUE=DURATION:PT1H
X-Robots-Tag:noindex
X-PUBLISHED-TTL:PT1H
BEGIN:VTIMEZONE
TZID:Europe/Oslo
BEGIN:DAYLIGHT
TZOFFSETFROM:+0100
TZOFFSETTO:+0200
TZNAME:CEST
DTSTART:20230326T010000
END:DAYLIGHT
BEGIN:STANDARD
TZOFFSETFROM:+0200
TZOFFSETTO:+0100
TZNAME:CET
DTSTART:20231029T010000
END:STANDARD
BEGIN:DAYLIGHT
TZOFFSETFROM:+0100
TZOFFSETTO:+0200
TZNAME:CEST
DTSTART:20240331T010000
END:DAYLIGHT
BEGIN:STANDARD
TZOFFSETFROM:+0200
TZOFFSETTO:+0100
TZNAME:CET
DTSTART:20241027T010000
END:STANDARD
BEGIN:DAYLIGHT
TZOFFSETFROM:+0100
TZOFFSETTO:+0200
TZNAME:CEST
DTSTART:20250330T010000
END:DAYLIGHT
BEGIN:STANDARD
TZOFFSETFROM:+0200
TZOFFSETTO:+0100
TZNAME:CET
DTSTART:20251026T010000
END:STANDARD
END:VTIMEZONE
BEGIN:VEVENT
DTSTART;TZID=Europe/Oslo:20240809T110000
DTEND;TZID=Europe/Oslo:20240809T160000
DTSTAMP:20260421T222942
CREATED:20240809T215104Z
LAST-MODIFIED:20240809T215105Z
UID:6696-1723201200-1723219200@www.norskstrikkeforbund.no
SUMMARY:Hvaler strikkefestival
DESCRIPTION:Hvaler strikkefestival - Kulturhus Floren\, Floren 10\, Skjærhalden
URL:https://www.norskstrikkeforbund.no/kalender/hvaler-strikkefestival/
END:VEVENT
BEGIN:VEVENT
DTSTART;TZID=Europe/Oslo:20240809T140000
DTEND;TZID=Europe/Oslo:20240811T150000
DTSTAMP:20260421T222942
CREATED:20240423T195307Z
LAST-MODIFIED:20240423T195309Z
UID:6497-1723212000-1723388400@www.norskstrikkeforbund.no
SUMMARY:Strikketreff i Fjellrosas Hage i Soknedal
DESCRIPTION:Se Facebook for mer informasjon: https://www.facebook.com/share/vncMFPDoZFWcKcRY/
URL:https://www.norskstrikkeforbund.no/kalender/strikketreff-i-fjellrosas-hage-i-soknedal/
END:VEVENT
BEGIN:VEVENT
DTSTART;TZID=Europe/Oslo:20240815T190000
DTEND;TZID=Europe/Oslo:20240815T210000
DTSTAMP:20260421T222942
CREATED:20240423T211649Z
LAST-MODIFIED:20240423T211651Z
UID:6508-1723748400-1723755600@www.norskstrikkeforbund.no
SUMMARY:Styremøte NSF
DESCRIPTION:
URL:https://www.norskstrikkeforbund.no/kalender/styremote-nsf-3/
END:VEVENT
BEGIN:VEVENT
DTSTART;TZID=Europe/Oslo:20240816T120000
DTEND;TZID=Europe/Oslo:20240818T140000
DTSTAMP:20260421T222942
CREATED:20240106T151447Z
LAST-MODIFIED:20240423T205246Z
UID:6117-1723809600-1723989600@www.norskstrikkeforbund.no
SUMMARY:Midtnorsk kultur- og strikkefestival
DESCRIPTION:Festival området: Bårdshaug Herregård\, Orkdalsveien 105\, 7300 Orkanger \n\n\n\nFor mer informasjon:  Midtnorsk kultur- og strikkefestival – Strikking er kultur (mns-festival.com)
URL:https://www.norskstrikkeforbund.no/kalender/midtnorsk-kultur-og-strikkefestival-7/
END:VEVENT
BEGIN:VEVENT
DTSTART;TZID=Europe/Oslo:20240825T190000
DTEND;TZID=Europe/Oslo:20240825T210000
DTSTAMP:20260421T222942
CREATED:20240506T194642Z
LAST-MODIFIED:20240506T194644Z
UID:6522-1724612400-1724619600@www.norskstrikkeforbund.no
SUMMARY:Digital strikkekafé - NSF
DESCRIPTION:
URL:https://www.norskstrikkeforbund.no/kalender/digital-strikkekafe-nsf-2/
END:VEVENT
END:VCALENDAR