BEGIN:VCALENDAR
VERSION:2.0
PRODID:-//Norsk strikkeforbund - ECPv6.15.18//NONSGML v1.0//EN
CALSCALE:GREGORIAN
METHOD:PUBLISH
X-WR-CALNAME:Norsk strikkeforbund
X-ORIGINAL-URL:https://www.norskstrikkeforbund.no
X-WR-CALDESC:Arrangement for Norsk strikkeforbund
REFRESH-INTERVAL;VALUE=DURATION:PT1H
X-Robots-Tag:noindex
X-PUBLISHED-TTL:PT1H
BEGIN:VTIMEZONE
TZID:Europe/Oslo
BEGIN:DAYLIGHT
TZOFFSETFROM:+0100
TZOFFSETTO:+0200
TZNAME:CEST
DTSTART:20230326T010000
END:DAYLIGHT
BEGIN:STANDARD
TZOFFSETFROM:+0200
TZOFFSETTO:+0100
TZNAME:CET
DTSTART:20231029T010000
END:STANDARD
BEGIN:DAYLIGHT
TZOFFSETFROM:+0100
TZOFFSETTO:+0200
TZNAME:CEST
DTSTART:20240331T010000
END:DAYLIGHT
BEGIN:STANDARD
TZOFFSETFROM:+0200
TZOFFSETTO:+0100
TZNAME:CET
DTSTART:20241027T010000
END:STANDARD
BEGIN:DAYLIGHT
TZOFFSETFROM:+0100
TZOFFSETTO:+0200
TZNAME:CEST
DTSTART:20250330T010000
END:DAYLIGHT
BEGIN:STANDARD
TZOFFSETFROM:+0200
TZOFFSETTO:+0100
TZNAME:CET
DTSTART:20251026T010000
END:STANDARD
END:VTIMEZONE
BEGIN:VEVENT
DTSTART;TZID=Europe/Oslo:20240704T123000
DTEND;TZID=Europe/Oslo:20240704T153000
DTSTAMP:20260422T000607
CREATED:20240617T182824Z
LAST-MODIFIED:20240617T183311Z
UID:6648-1720096200-1720107000@www.norskstrikkeforbund.no
SUMMARY:Strikkekafé i Råde
DESCRIPTION:På Den Lille Garnbutikken i Råde\, Østfold\, er det strikkekafè hver torsdag
URL:https://www.norskstrikkeforbund.no/kalender/strikkekafe-i-rade/
CATEGORIES:Strikkekafe
END:VEVENT
BEGIN:VEVENT
DTSTART;TZID=Europe/Oslo:20240704T150000
DTEND;TZID=Europe/Oslo:20240704T200000
DTSTAMP:20260422T000607
CREATED:20231214T104213Z
LAST-MODIFIED:20231214T104215Z
UID:6003-1720105200-1720123200@www.norskstrikkeforbund.no
SUMMARY:ULLINSVIN FESTIVAL (ullfestival i Vågå)
DESCRIPTION:
URL:https://www.norskstrikkeforbund.no/kalender/ullinsvin-festival-ullfestival-i-vaga/
END:VEVENT
BEGIN:VEVENT
DTSTART;TZID=Europe/Oslo:20240705T100000
DTEND;TZID=Europe/Oslo:20240705T180000
DTSTAMP:20260422T000607
CREATED:20231214T104304Z
LAST-MODIFIED:20231214T104305Z
UID:6005-1720173600-1720202400@www.norskstrikkeforbund.no
SUMMARY:ULLINSVIN FESTIVAL (ullfestival i Vågå)
DESCRIPTION:
URL:https://www.norskstrikkeforbund.no/kalender/ullinsvin-festival-ullfestival-i-vaga-2/
END:VEVENT
BEGIN:VEVENT
DTSTART;TZID=Europe/Oslo:20240706T100000
DTEND;TZID=Europe/Oslo:20240706T200000
DTSTAMP:20260422T000607
CREATED:20231214T104428Z
LAST-MODIFIED:20231214T104430Z
UID:6007-1720260000-1720296000@www.norskstrikkeforbund.no
SUMMARY:ULLINSVIN FESTIVAL (ullfestival i Vågå)
DESCRIPTION:
URL:https://www.norskstrikkeforbund.no/kalender/ullinsvin-festival-ullfestival-i-vaga-3/
END:VEVENT
BEGIN:VEVENT
DTSTART;TZID=Europe/Oslo:20240707T100000
DTEND;TZID=Europe/Oslo:20240707T150000
DTSTAMP:20260422T000607
CREATED:20231214T104539Z
LAST-MODIFIED:20231214T104541Z
UID:6009-1720346400-1720364400@www.norskstrikkeforbund.no
SUMMARY:ULLINSVIN FESTIVAL (ullfestival i Vågå)
DESCRIPTION:
URL:https://www.norskstrikkeforbund.no/kalender/ullinsvin-festival-ullfestival-i-vaga-4/
END:VEVENT
END:VCALENDAR