BEGIN:VCALENDAR
VERSION:2.0
PRODID:-//Norsk strikkeforbund - ECPv6.15.18//NONSGML v1.0//EN
CALSCALE:GREGORIAN
METHOD:PUBLISH
X-ORIGINAL-URL:https://www.norskstrikkeforbund.no
X-WR-CALDESC:Arrangement for Norsk strikkeforbund
REFRESH-INTERVAL;VALUE=DURATION:PT1H
X-Robots-Tag:noindex
X-PUBLISHED-TTL:PT1H
BEGIN:VTIMEZONE
TZID:Europe/Oslo
BEGIN:DAYLIGHT
TZOFFSETFROM:+0100
TZOFFSETTO:+0200
TZNAME:CEST
DTSTART:20230326T010000
END:DAYLIGHT
BEGIN:STANDARD
TZOFFSETFROM:+0200
TZOFFSETTO:+0100
TZNAME:CET
DTSTART:20231029T010000
END:STANDARD
BEGIN:DAYLIGHT
TZOFFSETFROM:+0100
TZOFFSETTO:+0200
TZNAME:CEST
DTSTART:20240331T010000
END:DAYLIGHT
BEGIN:STANDARD
TZOFFSETFROM:+0200
TZOFFSETTO:+0100
TZNAME:CET
DTSTART:20241027T010000
END:STANDARD
BEGIN:DAYLIGHT
TZOFFSETFROM:+0100
TZOFFSETTO:+0200
TZNAME:CEST
DTSTART:20250330T010000
END:DAYLIGHT
BEGIN:STANDARD
TZOFFSETFROM:+0200
TZOFFSETTO:+0100
TZNAME:CET
DTSTART:20251026T010000
END:STANDARD
END:VTIMEZONE
BEGIN:VEVENT
DTSTART;TZID=Europe/Oslo:20240601T000000
DTEND;TZID=Europe/Oslo:20240602T235959
DTSTAMP:20260422T013733
CREATED:20240604T192257Z
LAST-MODIFIED:20240604T192300Z
UID:6593-1717200000-1717372799@www.norskstrikkeforbund.no
SUMMARY:Strikkekraft idylliske Mjøsvågen på Osterøy
DESCRIPTION:
URL:https://www.norskstrikkeforbund.no/kalender/strikkekraft-idylliske-mjosvagen-pa-osteroy/
END:VEVENT
BEGIN:VEVENT
DTSTART;TZID=Europe/Oslo:20240601T110000
DTEND;TZID=Europe/Oslo:20240601T140000
DTSTAMP:20260422T013733
CREATED:20240305T165402Z
LAST-MODIFIED:20240305T165404Z
UID:6427-1717239600-1717250400@www.norskstrikkeforbund.no
SUMMARY:Strikkekafé med stoppekurs i Hammerfest
DESCRIPTION:Vi møtes til strikkekafé på Gjenreisningsmuseet i Hammerfest. Ta med votter\, sokker eller annet som trenger stopping og det garnet du ønsker å stoppe med. Åpent for alle.
URL:https://www.norskstrikkeforbund.no/kalender/strikkekafe-med-stoppekurs-i-hammerfest/
END:VEVENT
BEGIN:VEVENT
DTSTART;TZID=Europe/Oslo:20240602T110000
DTEND;TZID=Europe/Oslo:20240602T140000
DTSTAMP:20260422T013733
CREATED:20240305T165533Z
LAST-MODIFIED:20240305T165535Z
UID:6429-1717326000-1717336800@www.norskstrikkeforbund.no
SUMMARY:Strikkekafé med stoppekurs i Hammerfest
DESCRIPTION:Vi møtes til strikkekafé på Gjenreisningsmuseet i Hammerfest. Ta med votter\, sokker eller annet som trenger stopping og det garnet du ønsker å stoppe med. Åpent for alle.
URL:https://www.norskstrikkeforbund.no/kalender/strikkekafe-med-stoppekurs-i-hammerfest-2/
END:VEVENT
BEGIN:VEVENT
DTSTART;TZID=Europe/Oslo:20240604T100000
DTEND;TZID=Europe/Oslo:20240604T113000
DTSTAMP:20260422T013733
CREATED:20240604T191912Z
LAST-MODIFIED:20240604T191915Z
UID:6589-1717495200-1717500600@www.norskstrikkeforbund.no
SUMMARY:Strikkekafé for flyktninger på Deichman Lambertseter
DESCRIPTION:
URL:https://www.norskstrikkeforbund.no/kalender/strikkekafe-for-flyktninger-pa-deichman-lambertseter/
END:VEVENT
BEGIN:VEVENT
DTSTART;TZID=Europe/Oslo:20240608T000100
DTEND;TZID=Europe/Oslo:20240608T235900
DTSTAMP:20260422T013733
CREATED:20231106T200644Z
LAST-MODIFIED:20231106T200645Z
UID:5875-1717804860-1717891140@www.norskstrikkeforbund.no
SUMMARY:Worldwide Knit in Public Day
DESCRIPTION:Knit in Public Day markeres hvert år den andre lørdagen i juni. Dette skjer mange steder i verden ved at strikkere tar med seg strikketøyet på kafé\, på bussen\, i en park eller i arrangerte tilstelninger som er åpen for alle.
URL:https://www.norskstrikkeforbund.no/kalender/worldwide-knit-in-public-day/
END:VEVENT
BEGIN:VEVENT
DTSTART;TZID=Europe/Oslo:20240608T080000
DTEND;TZID=Europe/Oslo:20240608T170000
DTSTAMP:20260422T013733
CREATED:20240604T191315Z
LAST-MODIFIED:20240604T191318Z
UID:6587-1717833600-1717866000@www.norskstrikkeforbund.no
SUMMARY:TRDstrikk
DESCRIPTION:8. juni 2024 arrangeres TRDstrikk\, et marked for kreative sjeler i Olavshallen\, Trondheim. Besøkende kan se frem til en dag fylt med kreativitet\, inspirasjon og et levende utstillingsvindu av ulike utstillere innen strikking\, søm og håndverk.Les mer her: https://www.trdstrikk.com/
URL:https://www.norskstrikkeforbund.no/kalender/trdstrikk/
END:VEVENT
BEGIN:VEVENT
DTSTART;TZID=Europe/Oslo:20240608T110000
DTEND;TZID=Europe/Oslo:20240609T160000
DTSTAMP:20260422T013733
CREATED:20240514T203525Z
LAST-MODIFIED:20240514T203527Z
UID:6545-1717844400-1717948800@www.norskstrikkeforbund.no
SUMMARY:Strikketreff på Ona
DESCRIPTION:
URL:https://www.norskstrikkeforbund.no/kalender/strikketreff-pa-ona/
END:VEVENT
BEGIN:VEVENT
DTSTART;TZID=Europe/Oslo:20240608T150000
DTEND;TZID=Europe/Oslo:20240608T190000
DTSTAMP:20260422T013733
CREATED:20240305T165937Z
LAST-MODIFIED:20240305T165939Z
UID:6431-1717858800-1717873200@www.norskstrikkeforbund.no
SUMMARY:Knit in Public Day i Hammerfest
DESCRIPTION:Vi markerer Knit in Public Day på Slakteriet i Hammerfest. Ta med strikketøyet og strikk i offentligheten sammen med oss! Åpent for alle.
URL:https://www.norskstrikkeforbund.no/kalender/knit-in-public-day-i-hammerfest/
END:VEVENT
BEGIN:VEVENT
DTSTART;TZID=Europe/Oslo:20240609T110000
DTEND;TZID=Europe/Oslo:20240609T150000
DTSTAMP:20260422T013733
CREATED:20240514T204251Z
LAST-MODIFIED:20240514T204252Z
UID:6549-1717930800-1717945200@www.norskstrikkeforbund.no
SUMMARY:Sarpsborg Strikkemarked
DESCRIPTION:Arrangementet er i Kulåsparken. Søk opp arrangementet på Facebook for mer informasjon.
URL:https://www.norskstrikkeforbund.no/kalender/sarpsborg-strikkemarked/
END:VEVENT
BEGIN:VEVENT
DTSTART;TZID=Europe/Oslo:20240611T100000
DTEND;TZID=Europe/Oslo:20240611T113000
DTSTAMP:20260422T013733
CREATED:20240604T192040Z
LAST-MODIFIED:20240604T192043Z
UID:6591-1718100000-1718105400@www.norskstrikkeforbund.no
SUMMARY:Strikkekafé for flyktninger på Deichman Lambertseter
DESCRIPTION:
URL:https://www.norskstrikkeforbund.no/kalender/strikkekafe-for-flyktninger-pa-deichman-lambertseter-2/
END:VEVENT
BEGIN:VEVENT
DTSTART;TZID=Europe/Oslo:20240611T190000
DTEND;TZID=Europe/Oslo:20240611T210000
DTSTAMP:20260422T013733
CREATED:20240506T194413Z
LAST-MODIFIED:20240506T194414Z
UID:6520-1718132400-1718139600@www.norskstrikkeforbund.no
SUMMARY:Digital strikkekafé - NSF
DESCRIPTION:
URL:https://www.norskstrikkeforbund.no/kalender/digital-strikkekafe-nsf/
END:VEVENT
BEGIN:VEVENT
DTSTART;TZID=Europe/Oslo:20240620T123000
DTEND;TZID=Europe/Oslo:20240620T153000
DTSTAMP:20260422T013733
CREATED:20240617T183055Z
LAST-MODIFIED:20240617T183218Z
UID:6652-1718886600-1718897400@www.norskstrikkeforbund.no
SUMMARY:Strikkekafé i Råde
DESCRIPTION:På Den Lille Garnbutikken i Råde\, Østfold\, er det strikkekafè hver torsdag
URL:https://www.norskstrikkeforbund.no/kalender/strikkekafe-i-rade-3/
END:VEVENT
BEGIN:VEVENT
DTSTART;TZID=Europe/Oslo:20240627T123000
DTEND;TZID=Europe/Oslo:20240627T153000
DTSTAMP:20260422T013733
CREATED:20240617T182942Z
LAST-MODIFIED:20240617T182944Z
UID:6650-1719491400-1719502200@www.norskstrikkeforbund.no
SUMMARY:Strikkekafé i Råde
DESCRIPTION:På Den Lille Garnbutikken i Råde\, Østfold\, er det strikkekafè hver torsdag
URL:https://www.norskstrikkeforbund.no/kalender/strikkekafe-i-rade-2/
END:VEVENT
END:VCALENDAR