BEGIN:VCALENDAR
VERSION:2.0
PRODID:-//Norsk strikkeforbund - ECPv6.15.18//NONSGML v1.0//EN
CALSCALE:GREGORIAN
METHOD:PUBLISH
X-ORIGINAL-URL:https://www.norskstrikkeforbund.no
X-WR-CALDESC:Arrangement for Norsk strikkeforbund
REFRESH-INTERVAL;VALUE=DURATION:PT1H
X-Robots-Tag:noindex
X-PUBLISHED-TTL:PT1H
BEGIN:VTIMEZONE
TZID:Europe/Oslo
BEGIN:DAYLIGHT
TZOFFSETFROM:+0100
TZOFFSETTO:+0200
TZNAME:CEST
DTSTART:20230326T010000
END:DAYLIGHT
BEGIN:STANDARD
TZOFFSETFROM:+0200
TZOFFSETTO:+0100
TZNAME:CET
DTSTART:20231029T010000
END:STANDARD
BEGIN:DAYLIGHT
TZOFFSETFROM:+0100
TZOFFSETTO:+0200
TZNAME:CEST
DTSTART:20240331T010000
END:DAYLIGHT
BEGIN:STANDARD
TZOFFSETFROM:+0200
TZOFFSETTO:+0100
TZNAME:CET
DTSTART:20241027T010000
END:STANDARD
BEGIN:DAYLIGHT
TZOFFSETFROM:+0100
TZOFFSETTO:+0200
TZNAME:CEST
DTSTART:20250330T010000
END:DAYLIGHT
BEGIN:STANDARD
TZOFFSETFROM:+0200
TZOFFSETTO:+0100
TZNAME:CET
DTSTART:20251026T010000
END:STANDARD
END:VTIMEZONE
BEGIN:VEVENT
DTSTART;TZID=Europe/Oslo:20240301T150000
DTEND;TZID=Europe/Oslo:20240303T150000
DTSTAMP:20260422T061349
CREATED:20230731T194507Z
LAST-MODIFIED:20230731T195107Z
UID:5613-1709305200-1709478000@www.norskstrikkeforbund.no
SUMMARY:Strikkesamling med årsmøte 2024 i Tromsø
DESCRIPTION:Foredraget som Brandon Mably skal ha i Tromsø om formiddagen fredag 1. mars er nå utsolgt\, men det er fortsatt god plass på strikkesamlingen. Du kan lese mer om strikkesamlingen her: https://www.norskstrikkeforbund.no/strikkesamling-og.../ \n\n\n\nog du kan melde deg på her: \n\n\n\nhttps://arena360.no/events/806/8492
URL:https://www.norskstrikkeforbund.no/kalender/strikkesamling-med-arsmote-2024-i-tromso/
END:VEVENT
BEGIN:VEVENT
DTSTART;TZID=Europe/Oslo:20240308T120000
DTEND;TZID=Europe/Oslo:20240308T180000
DTSTAMP:20260422T061349
CREATED:20231214T095751Z
LAST-MODIFIED:20231214T095753Z
UID:5969-1709899200-1709920800@www.norskstrikkeforbund.no
SUMMARY:Sunnmøre Strikkefestival
DESCRIPTION:Arrangementet er på Quality Hotel Ulstein i Ulsteinvik 8.-10. mars 2024. \n\n\n\nFestivalen har både Facebook- og Instagramsider med mer informasjon.
URL:https://www.norskstrikkeforbund.no/kalender/sunnmore-strikkefestival-2/
END:VEVENT
BEGIN:VEVENT
DTSTART;TZID=Europe/Oslo:20240309T100000
DTEND;TZID=Europe/Oslo:20240309T180000
DTSTAMP:20260422T061349
CREATED:20231214T100005Z
LAST-MODIFIED:20231214T100007Z
UID:5971-1709978400-1710007200@www.norskstrikkeforbund.no
SUMMARY:Sunnmøre Strikkefestival
DESCRIPTION:Arrangementet er på Quality Hotel Ulstein i Ulsteinvik 8.-10. mars 2024. \n\n\n\nFestivalen har både Facebook- og Instagramsider med mer informasjon.
URL:https://www.norskstrikkeforbund.no/kalender/sunnmore-strikkefestival-3/
END:VEVENT
BEGIN:VEVENT
DTSTART;TZID=Europe/Oslo:20240309T100000
DTEND;TZID=Europe/Oslo:20240309T180000
DTSTAMP:20260422T061349
CREATED:20231214T100942Z
LAST-MODIFIED:20231214T100943Z
UID:5983-1709978400-1710007200@www.norskstrikkeforbund.no
SUMMARY:StrikkeKinoFestivalen i Fredrikstad
DESCRIPTION:
URL:https://www.norskstrikkeforbund.no/kalender/strikkekinofestivalen-i-fredrikstad/
END:VEVENT
BEGIN:VEVENT
DTSTART;TZID=Europe/Oslo:20240310T100000
DTEND;TZID=Europe/Oslo:20240310T160000
DTSTAMP:20260422T061349
CREATED:20231214T100112Z
LAST-MODIFIED:20231214T100114Z
UID:5973-1710064800-1710086400@www.norskstrikkeforbund.no
SUMMARY:Sunnmøre Strikkefestival
DESCRIPTION:Arrangementet er på Quality Hotel Ulstein i Ulsteinvik 8.-10. mars 2024. \n\n\n\nFestivalen har både Facebook- og Instagramsider med mer informasjon.
URL:https://www.norskstrikkeforbund.no/kalender/sunnmore-strikkefestival-4/
END:VEVENT
BEGIN:VEVENT
DTSTART;TZID=Europe/Oslo:20240315T050000
DTEND;TZID=Europe/Oslo:20240315T200000
DTSTAMP:20260422T061349
CREATED:20231214T101158Z
LAST-MODIFIED:20231214T101159Z
UID:5985-1710478800-1710532800@www.norskstrikkeforbund.no
SUMMARY:Strikkeweekend på Bessheim
DESCRIPTION:
URL:https://www.norskstrikkeforbund.no/kalender/strikkeweekend-pa-bessheim/
END:VEVENT
BEGIN:VEVENT
DTSTART;TZID=Europe/Oslo:20240315T150000
DTEND;TZID=Europe/Oslo:20240315T200000
DTSTAMP:20260422T061349
CREATED:20231215T114326Z
LAST-MODIFIED:20231215T114328Z
UID:6043-1710514800-1710532800@www.norskstrikkeforbund.no
SUMMARY:South West Yarn Festival
DESCRIPTION:
URL:https://www.norskstrikkeforbund.no/kalender/south-west-yarn-festival/
END:VEVENT
BEGIN:VEVENT
DTSTART;TZID=Europe/Oslo:20240315T180000
DTEND;TZID=Europe/Oslo:20240315T200000
DTSTAMP:20260422T061349
CREATED:20240305T163432Z
LAST-MODIFIED:20240305T163434Z
UID:6420-1710525600-1710532800@www.norskstrikkeforbund.no
SUMMARY:Strikkekveld og foredrag med Christina Gjertsen i Hammerfest
DESCRIPTION:Foredrag og strikkekafé med Christina Gjertsen på biblioteket i Hammerfest. Åpent for alle.
URL:https://www.norskstrikkeforbund.no/kalender/strikkekveld-og-foredrag-med-christina-gjertsen-i-hammerfest/
END:VEVENT
BEGIN:VEVENT
DTSTART;TZID=Europe/Oslo:20240316T100000
DTEND;TZID=Europe/Oslo:20240316T200000
DTSTAMP:20260422T061349
CREATED:20231214T101247Z
LAST-MODIFIED:20231214T101248Z
UID:5987-1710583200-1710619200@www.norskstrikkeforbund.no
SUMMARY:Strikkeweekend på Bessheim
DESCRIPTION:
URL:https://www.norskstrikkeforbund.no/kalender/strikkeweekend-pa-bessheim-2/
END:VEVENT
BEGIN:VEVENT
DTSTART;TZID=Europe/Oslo:20240316T100000
DTEND;TZID=Europe/Oslo:20240316T200000
DTSTAMP:20260422T061349
CREATED:20231215T114408Z
LAST-MODIFIED:20231215T114409Z
UID:6045-1710583200-1710619200@www.norskstrikkeforbund.no
SUMMARY:South West Yarn Festival
DESCRIPTION:
URL:https://www.norskstrikkeforbund.no/kalender/south-west-yarn-festival-2/
END:VEVENT
BEGIN:VEVENT
DTSTART;TZID=Europe/Oslo:20240317T100000
DTEND;TZID=Europe/Oslo:20240317T150000
DTSTAMP:20260422T061349
CREATED:20231214T101328Z
LAST-MODIFIED:20231214T101329Z
UID:5989-1710669600-1710687600@www.norskstrikkeforbund.no
SUMMARY:Strikkeweekend på Bessheim
DESCRIPTION:
URL:https://www.norskstrikkeforbund.no/kalender/strikkeweekend-pa-bessheim-3/
END:VEVENT
BEGIN:VEVENT
DTSTART;TZID=Europe/Oslo:20240317T100000
DTEND;TZID=Europe/Oslo:20240317T150000
DTSTAMP:20260422T061349
CREATED:20231215T114509Z
LAST-MODIFIED:20231215T114510Z
UID:6047-1710669600-1710687600@www.norskstrikkeforbund.no
SUMMARY:South West Yarn Festival
DESCRIPTION:
URL:https://www.norskstrikkeforbund.no/kalender/south-west-yarn-festival-3/
END:VEVENT
END:VCALENDAR