BEGIN:VCALENDAR
VERSION:2.0
PRODID:-//Norsk strikkeforbund - ECPv6.15.18//NONSGML v1.0//EN
CALSCALE:GREGORIAN
METHOD:PUBLISH
X-ORIGINAL-URL:https://www.norskstrikkeforbund.no
X-WR-CALDESC:Arrangement for Norsk strikkeforbund
REFRESH-INTERVAL;VALUE=DURATION:PT1H
X-Robots-Tag:noindex
X-PUBLISHED-TTL:PT1H
BEGIN:VTIMEZONE
TZID:Europe/Oslo
BEGIN:DAYLIGHT
TZOFFSETFROM:+0100
TZOFFSETTO:+0200
TZNAME:CEST
DTSTART:20230326T010000
END:DAYLIGHT
BEGIN:STANDARD
TZOFFSETFROM:+0200
TZOFFSETTO:+0100
TZNAME:CET
DTSTART:20231029T010000
END:STANDARD
BEGIN:DAYLIGHT
TZOFFSETFROM:+0100
TZOFFSETTO:+0200
TZNAME:CEST
DTSTART:20240331T010000
END:DAYLIGHT
BEGIN:STANDARD
TZOFFSETFROM:+0200
TZOFFSETTO:+0100
TZNAME:CET
DTSTART:20241027T010000
END:STANDARD
BEGIN:DAYLIGHT
TZOFFSETFROM:+0100
TZOFFSETTO:+0200
TZNAME:CEST
DTSTART:20250330T010000
END:DAYLIGHT
BEGIN:STANDARD
TZOFFSETFROM:+0200
TZOFFSETTO:+0100
TZNAME:CET
DTSTART:20251026T010000
END:STANDARD
END:VTIMEZONE
BEGIN:VEVENT
DTSTART;TZID=Europe/Oslo:20240201T190000
DTEND;TZID=Europe/Oslo:20240201T210000
DTSTAMP:20260422T072826
CREATED:20230731T193234Z
LAST-MODIFIED:20230731T193235Z
UID:5604-1706814000-1706821200@www.norskstrikkeforbund.no
SUMMARY:Styremøte
DESCRIPTION:
URL:https://www.norskstrikkeforbund.no/kalender/styremote-7/
END:VEVENT
BEGIN:VEVENT
DTSTART;TZID=Europe/Oslo:20240202T110000
DTEND;TZID=Europe/Oslo:20240202T170000
DTSTAMP:20260422T072826
CREATED:20240112T191406Z
LAST-MODIFIED:20240112T191753Z
UID:6174-1706871600-1706893200@www.norskstrikkeforbund.no
SUMMARY:Sola Strikkefestival
DESCRIPTION:
URL:https://www.norskstrikkeforbund.no/kalender/sola-strikkefestival-3/
END:VEVENT
BEGIN:VEVENT
DTSTART;TZID=Europe/Oslo:20240203T120000
DTEND;TZID=Europe/Oslo:20240203T230000
DTSTAMP:20260422T072826
CREATED:20240112T191541Z
LAST-MODIFIED:20240112T191543Z
UID:6176-1706961600-1707001200@www.norskstrikkeforbund.no
SUMMARY:Sola Strikkefestival
DESCRIPTION:
URL:https://www.norskstrikkeforbund.no/kalender/sola-strikkefestival-4/
END:VEVENT
BEGIN:VEVENT
DTSTART;TZID=Europe/Oslo:20240209T150000
DTEND;TZID=Europe/Oslo:20240209T200000
DTSTAMP:20260422T072826
CREATED:20231214T100446Z
LAST-MODIFIED:20231214T100447Z
UID:5975-1707490800-1707508800@www.norskstrikkeforbund.no
SUMMARY:Molde Strikkefestival
DESCRIPTION:
URL:https://www.norskstrikkeforbund.no/kalender/molde-strikkefestival/
END:VEVENT
BEGIN:VEVENT
DTSTART;TZID=Europe/Oslo:20240210T100000
DTEND;TZID=Europe/Oslo:20240210T180000
DTSTAMP:20260422T072826
CREATED:20231214T100539Z
LAST-MODIFIED:20231214T100541Z
UID:5977-1707559200-1707588000@www.norskstrikkeforbund.no
SUMMARY:Molde Strikkefestival
DESCRIPTION:
URL:https://www.norskstrikkeforbund.no/kalender/molde-strikkefestival-2/
END:VEVENT
BEGIN:VEVENT
DTSTART;TZID=Europe/Oslo:20240213T190000
DTEND;TZID=Europe/Oslo:20240213T210000
DTSTAMP:20260422T072826
CREATED:20231106T194400Z
LAST-MODIFIED:20231106T195213Z
UID:5871-1707850800-1707858000@www.norskstrikkeforbund.no
SUMMARY:Foredrag med Christel Eriksson
DESCRIPTION:Christel Eriksson skal presentere svensk strikkehistorie og Hallandsk bingemønster.
URL:https://www.norskstrikkeforbund.no/kalender/foredrag-med-christel-eriksson/
END:VEVENT
BEGIN:VEVENT
DTSTART;TZID=Europe/Oslo:20240216T160000
DTEND;TZID=Europe/Oslo:20240216T220000
DTSTAMP:20260422T072826
CREATED:20231214T100703Z
LAST-MODIFIED:20231214T100705Z
UID:5979-1708099200-1708120800@www.norskstrikkeforbund.no
SUMMARY:Alta Strikkefestival
DESCRIPTION:
URL:https://www.norskstrikkeforbund.no/kalender/alta-strikkefestival-4/
END:VEVENT
BEGIN:VEVENT
DTSTART;TZID=Europe/Oslo:20240217T100000
DTEND;TZID=Europe/Oslo:20240217T160000
DTSTAMP:20260422T072826
CREATED:20231214T100752Z
LAST-MODIFIED:20231214T100753Z
UID:5981-1708164000-1708185600@www.norskstrikkeforbund.no
SUMMARY:Alta Strikkefestival
DESCRIPTION:
URL:https://www.norskstrikkeforbund.no/kalender/alta-strikkefestival-5/
END:VEVENT
BEGIN:VEVENT
DTSTART;TZID=Europe/Oslo:20240222T190000
DTEND;TZID=Europe/Oslo:20240222T210000
DTSTAMP:20260422T072826
CREATED:20240110T184816Z
LAST-MODIFIED:20240110T184818Z
UID:6160-1708628400-1708635600@www.norskstrikkeforbund.no
SUMMARY:Digital strikkekafé
DESCRIPTION:Strikkekafé med Terje Tjelle. Tema: Bortreist strikketøy
URL:https://www.norskstrikkeforbund.no/kalender/digital-strikkekafe-2/
END:VEVENT
BEGIN:VEVENT
DTSTART;TZID=Europe/Oslo:20240224T110000
DTEND;TZID=Europe/Oslo:20240224T140000
DTSTAMP:20260422T072826
CREATED:20240117T081740Z
LAST-MODIFIED:20240117T081741Z
UID:6193-1708772400-1708783200@www.norskstrikkeforbund.no
SUMMARY:Strikkekafé i Hammerfest
DESCRIPTION:Vi møtes i kafeen på Gjenreisningsmuseet i Hammerfest. Åpent for alle.
URL:https://www.norskstrikkeforbund.no/kalender/strikkekafe-i-hammerfest-3/
END:VEVENT
BEGIN:VEVENT
DTSTART;TZID=Europe/Oslo:20240225T110000
DTEND;TZID=Europe/Oslo:20240225T140000
DTSTAMP:20260422T072826
CREATED:20240117T082010Z
LAST-MODIFIED:20240117T082012Z
UID:6195-1708858800-1708869600@www.norskstrikkeforbund.no
SUMMARY:Strikkekafé i Hammerfest
DESCRIPTION:Vi møtes i kafeen på Gjenreisningsmuseet i Hammerfest. Åpent for alle.
URL:https://www.norskstrikkeforbund.no/kalender/strikkekafe-i-hammerfest-4/
END:VEVENT
END:VCALENDAR