BEGIN:VCALENDAR
VERSION:2.0
PRODID:-//Norsk strikkeforbund - ECPv6.15.18//NONSGML v1.0//EN
CALSCALE:GREGORIAN
METHOD:PUBLISH
X-ORIGINAL-URL:https://www.norskstrikkeforbund.no
X-WR-CALDESC:Arrangement for Norsk strikkeforbund
REFRESH-INTERVAL;VALUE=DURATION:PT1H
X-Robots-Tag:noindex
X-PUBLISHED-TTL:PT1H
BEGIN:VTIMEZONE
TZID:Europe/Oslo
BEGIN:DAYLIGHT
TZOFFSETFROM:+0100
TZOFFSETTO:+0200
TZNAME:CEST
DTSTART:20220327T010000
END:DAYLIGHT
BEGIN:STANDARD
TZOFFSETFROM:+0200
TZOFFSETTO:+0100
TZNAME:CET
DTSTART:20221030T010000
END:STANDARD
BEGIN:DAYLIGHT
TZOFFSETFROM:+0100
TZOFFSETTO:+0200
TZNAME:CEST
DTSTART:20230326T010000
END:DAYLIGHT
BEGIN:STANDARD
TZOFFSETFROM:+0200
TZOFFSETTO:+0100
TZNAME:CET
DTSTART:20231029T010000
END:STANDARD
BEGIN:DAYLIGHT
TZOFFSETFROM:+0100
TZOFFSETTO:+0200
TZNAME:CEST
DTSTART:20240331T010000
END:DAYLIGHT
BEGIN:STANDARD
TZOFFSETFROM:+0200
TZOFFSETTO:+0100
TZNAME:CET
DTSTART:20241027T010000
END:STANDARD
END:VTIMEZONE
BEGIN:VEVENT
DTSTART;TZID=Europe/Oslo:20230512T150000
DTEND;TZID=Europe/Oslo:20230512T200000
DTSTAMP:20260422T204308
CREATED:20230105T222229Z
LAST-MODIFIED:20230105T222229Z
UID:5203-1683903600-1683921600@www.norskstrikkeforbund.no
SUMMARY:Strikkekjør i sør
DESCRIPTION:Strikkefestival i Kristiansand
URL:https://www.norskstrikkeforbund.no/kalender/strikkekjor-i-sor/
END:VEVENT
BEGIN:VEVENT
DTSTART;TZID=Europe/Oslo:20230513T100000
DTEND;TZID=Europe/Oslo:20230513T170000
DTSTAMP:20260422T204308
CREATED:20230105T222324Z
LAST-MODIFIED:20230105T222325Z
UID:5206-1683972000-1683997200@www.norskstrikkeforbund.no
SUMMARY:Strikkekjør i sør
DESCRIPTION:Strikkefestival i Kristiansand
URL:https://www.norskstrikkeforbund.no/kalender/strikkekjor-i-sor-2/
END:VEVENT
BEGIN:VEVENT
DTSTART;TZID=Europe/Oslo:20230514T100000
DTEND;TZID=Europe/Oslo:20230514T150000
DTSTAMP:20260422T204308
CREATED:20230105T222411Z
LAST-MODIFIED:20230105T222412Z
UID:5209-1684058400-1684076400@www.norskstrikkeforbund.no
SUMMARY:Strikkekjør i sør
DESCRIPTION:Strikkefestival i Kristiansand
URL:https://www.norskstrikkeforbund.no/kalender/strikkekjor-i-sor-3/
END:VEVENT
BEGIN:VEVENT
DTSTART;TZID=Europe/Oslo:20230530T190000
DTEND;TZID=Europe/Oslo:20230530T210000
DTSTAMP:20260422T204308
CREATED:20230527T220124Z
LAST-MODIFIED:20230530T162344Z
UID:5470-1685473200-1685480400@www.norskstrikkeforbund.no
SUMMARY:Strikkekafé med Vibecke Dixon
DESCRIPTION:Innstrikkede blader og glattpatent med Vibecke Dixon
URL:https://www.norskstrikkeforbund.no/kalender/strikkekafe-5/
END:VEVENT
END:VCALENDAR