BEGIN:VCALENDAR
VERSION:2.0
PRODID:-//Norsk strikkeforbund - ECPv6.15.18//NONSGML v1.0//EN
CALSCALE:GREGORIAN
METHOD:PUBLISH
X-WR-CALNAME:Norsk strikkeforbund
X-ORIGINAL-URL:https://www.norskstrikkeforbund.no
X-WR-CALDESC:Arrangement for Norsk strikkeforbund
REFRESH-INTERVAL;VALUE=DURATION:PT1H
X-Robots-Tag:noindex
X-PUBLISHED-TTL:PT1H
BEGIN:VTIMEZONE
TZID:Europe/Oslo
BEGIN:DAYLIGHT
TZOFFSETFROM:+0100
TZOFFSETTO:+0200
TZNAME:CEST
DTSTART:20220327T010000
END:DAYLIGHT
BEGIN:STANDARD
TZOFFSETFROM:+0200
TZOFFSETTO:+0100
TZNAME:CET
DTSTART:20221030T010000
END:STANDARD
BEGIN:DAYLIGHT
TZOFFSETFROM:+0100
TZOFFSETTO:+0200
TZNAME:CEST
DTSTART:20230326T010000
END:DAYLIGHT
BEGIN:STANDARD
TZOFFSETFROM:+0200
TZOFFSETTO:+0100
TZNAME:CET
DTSTART:20231029T010000
END:STANDARD
BEGIN:DAYLIGHT
TZOFFSETFROM:+0100
TZOFFSETTO:+0200
TZNAME:CEST
DTSTART:20240331T010000
END:DAYLIGHT
BEGIN:STANDARD
TZOFFSETFROM:+0200
TZOFFSETTO:+0100
TZNAME:CET
DTSTART:20241027T010000
END:STANDARD
END:VTIMEZONE
BEGIN:VEVENT
DTSTART;TZID=Europe/Oslo:20230303T160000
DTEND;TZID=Europe/Oslo:20230303T210000
DTSTAMP:20260422T234411
CREATED:20221125T102325Z
LAST-MODIFIED:20221125T102326Z
UID:5115-1677859200-1677877200@www.norskstrikkeforbund.no
SUMMARY:STRIKKESAMLING og årsmøte i Bergen
DESCRIPTION:
URL:https://www.norskstrikkeforbund.no/kalender/strikkesamling-og-arsmote-i-bergen/
END:VEVENT
BEGIN:VEVENT
DTSTART;TZID=Europe/Oslo:20230304T100000
DTEND;TZID=Europe/Oslo:20230304T180000
DTSTAMP:20260422T234411
CREATED:20221125T102359Z
LAST-MODIFIED:20221125T102400Z
UID:5118-1677924000-1677952800@www.norskstrikkeforbund.no
SUMMARY:STRIKKESAMLING og årsmøte i Bergen
DESCRIPTION:
URL:https://www.norskstrikkeforbund.no/kalender/strikkesamling-og-arsmote-i-bergen-2/
END:VEVENT
BEGIN:VEVENT
DTSTART;TZID=Europe/Oslo:20230305T100000
DTEND;TZID=Europe/Oslo:20230305T150000
DTSTAMP:20260422T234411
CREATED:20221125T102432Z
LAST-MODIFIED:20221125T102432Z
UID:5121-1678010400-1678028400@www.norskstrikkeforbund.no
SUMMARY:STRIKKESAMLING og årsmøte i Bergen
DESCRIPTION:
URL:https://www.norskstrikkeforbund.no/kalender/strikkesamling-og-arsmote-i-bergen-3/
END:VEVENT
BEGIN:VEVENT
DTSTART;TZID=Europe/Oslo:20230317T160000
DTEND;TZID=Europe/Oslo:20230317T200000
DTSTAMP:20260422T234411
CREATED:20230105T221945Z
LAST-MODIFIED:20230105T221946Z
UID:5194-1679068800-1679083200@www.norskstrikkeforbund.no
SUMMARY:Kristiansand Strikkefestival
DESCRIPTION:
URL:https://www.norskstrikkeforbund.no/kalender/kristiansand-strikkefestival/
END:VEVENT
BEGIN:VEVENT
DTSTART;TZID=Europe/Oslo:20230318T100000
DTEND;TZID=Europe/Oslo:20230318T170000
DTSTAMP:20260422T234411
CREATED:20230105T222025Z
LAST-MODIFIED:20230105T222026Z
UID:5197-1679133600-1679158800@www.norskstrikkeforbund.no
SUMMARY:Kristiansand Strikkefestival
DESCRIPTION:
URL:https://www.norskstrikkeforbund.no/kalender/kristiansand-strikkefestival-2/
END:VEVENT
BEGIN:VEVENT
DTSTART;TZID=Europe/Oslo:20230319T100000
DTEND;TZID=Europe/Oslo:20230319T150000
DTSTAMP:20260422T234411
CREATED:20230105T222102Z
LAST-MODIFIED:20230105T222103Z
UID:5200-1679220000-1679238000@www.norskstrikkeforbund.no
SUMMARY:Kristiansand Strikkefestival
DESCRIPTION:
URL:https://www.norskstrikkeforbund.no/kalender/kristiansand-strikkefestival-3/
END:VEVENT
END:VCALENDAR