BEGIN:VCALENDAR
VERSION:2.0
PRODID:-//Norsk strikkeforbund - ECPv6.15.18//NONSGML v1.0//EN
CALSCALE:GREGORIAN
METHOD:PUBLISH
X-ORIGINAL-URL:https://www.norskstrikkeforbund.no
X-WR-CALDESC:Arrangement for Norsk strikkeforbund
REFRESH-INTERVAL;VALUE=DURATION:PT1H
X-Robots-Tag:noindex
X-PUBLISHED-TTL:PT1H
BEGIN:VTIMEZONE
TZID:Europe/Oslo
BEGIN:DAYLIGHT
TZOFFSETFROM:+0100
TZOFFSETTO:+0200
TZNAME:CEST
DTSTART:20220327T010000
END:DAYLIGHT
BEGIN:STANDARD
TZOFFSETFROM:+0200
TZOFFSETTO:+0100
TZNAME:CET
DTSTART:20221030T010000
END:STANDARD
BEGIN:DAYLIGHT
TZOFFSETFROM:+0100
TZOFFSETTO:+0200
TZNAME:CEST
DTSTART:20230326T010000
END:DAYLIGHT
BEGIN:STANDARD
TZOFFSETFROM:+0200
TZOFFSETTO:+0100
TZNAME:CET
DTSTART:20231029T010000
END:STANDARD
BEGIN:DAYLIGHT
TZOFFSETFROM:+0100
TZOFFSETTO:+0200
TZNAME:CEST
DTSTART:20240331T010000
END:DAYLIGHT
BEGIN:STANDARD
TZOFFSETFROM:+0200
TZOFFSETTO:+0100
TZNAME:CET
DTSTART:20241027T010000
END:STANDARD
END:VTIMEZONE
BEGIN:VEVENT
DTSTART;TZID=Europe/Oslo:20230202T190000
DTEND;TZID=Europe/Oslo:20230202T210000
DTSTAMP:20260423T012315
CREATED:20230105T223105Z
LAST-MODIFIED:20230105T223106Z
UID:5216-1675364400-1675371600@www.norskstrikkeforbund.no
SUMMARY:FOREDRAG med Anne Bårdsgård
DESCRIPTION:Anne er født og oppvokst i Selbu\, så i dag handler det om Selbustrikking
URL:https://www.norskstrikkeforbund.no/kalender/foredrag-med-anne-bardsgard/
END:VEVENT
BEGIN:VEVENT
DTSTART;TZID=Europe/Oslo:20230203T110000
DTEND;TZID=Europe/Oslo:20230203T220000
DTSTAMP:20260423T012315
CREATED:20230113T182810Z
LAST-MODIFIED:20230113T182810Z
UID:5227-1675422000-1675461600@www.norskstrikkeforbund.no
SUMMARY:Sola Strikkefestival
DESCRIPTION:
URL:https://www.norskstrikkeforbund.no/kalender/sola-strikkefestival/
END:VEVENT
BEGIN:VEVENT
DTSTART;TZID=Europe/Oslo:20230204T113000
DTEND;TZID=Europe/Oslo:20230204T190000
DTSTAMP:20260423T012315
CREATED:20230113T182855Z
LAST-MODIFIED:20230113T183058Z
UID:5230-1675510200-1675537200@www.norskstrikkeforbund.no
SUMMARY:Sola Strikkefestival
DESCRIPTION:
URL:https://www.norskstrikkeforbund.no/kalender/sola-strikkefestival-2/
END:VEVENT
BEGIN:VEVENT
DTSTART;TZID=Europe/Oslo:20230206T190000
DTEND;TZID=Europe/Oslo:20230206T210000
DTSTAMP:20260423T012315
CREATED:20230105T223359Z
LAST-MODIFIED:20230105T223417Z
UID:5222-1675710000-1675717200@www.norskstrikkeforbund.no
SUMMARY:STYREMØTE I NSF
DESCRIPTION:ZOOM
URL:https://www.norskstrikkeforbund.no/kalender/styremote-i-nsf/
END:VEVENT
BEGIN:VEVENT
DTSTART;TZID=Europe/Oslo:20230211T090000
DTEND;TZID=Europe/Oslo:20230211T170000
DTSTAMP:20260423T012315
CREATED:20230103T095726Z
LAST-MODIFIED:20230103T095727Z
UID:5190-1676106000-1676134800@www.norskstrikkeforbund.no
SUMMARY:Alta Strikkefestival
DESCRIPTION:Alta ungdomsskole\, kantina
URL:https://www.norskstrikkeforbund.no/kalender/alta-strikkefestival-3/
END:VEVENT
BEGIN:VEVENT
DTSTART;TZID=Europe/Oslo:20230213T190000
DTEND;TZID=Europe/Oslo:20230213T210000
DTSTAMP:20260423T012315
CREATED:20230105T223302Z
LAST-MODIFIED:20230105T223303Z
UID:5219-1676314800-1676322000@www.norskstrikkeforbund.no
SUMMARY:STRIKKEKAFE
DESCRIPTION:I dag får vi besøk av Kristin Nesterud (tidligere i styret i NSF) som skal inspirere oss med RAVELRY
URL:https://www.norskstrikkeforbund.no/kalender/strikkekafe-4/
END:VEVENT
END:VCALENDAR