BEGIN:VCALENDAR
VERSION:2.0
PRODID:-//Norsk strikkeforbund - ECPv6.15.18//NONSGML v1.0//EN
CALSCALE:GREGORIAN
METHOD:PUBLISH
X-ORIGINAL-URL:https://www.norskstrikkeforbund.no
X-WR-CALDESC:Arrangement for Norsk strikkeforbund
REFRESH-INTERVAL;VALUE=DURATION:PT1H
X-Robots-Tag:noindex
X-PUBLISHED-TTL:PT1H
BEGIN:VTIMEZONE
TZID:Europe/Oslo
BEGIN:DAYLIGHT
TZOFFSETFROM:+0100
TZOFFSETTO:+0200
TZNAME:CEST
DTSTART:20210328T010000
END:DAYLIGHT
BEGIN:STANDARD
TZOFFSETFROM:+0200
TZOFFSETTO:+0100
TZNAME:CET
DTSTART:20211031T010000
END:STANDARD
BEGIN:DAYLIGHT
TZOFFSETFROM:+0100
TZOFFSETTO:+0200
TZNAME:CEST
DTSTART:20220327T010000
END:DAYLIGHT
BEGIN:STANDARD
TZOFFSETFROM:+0200
TZOFFSETTO:+0100
TZNAME:CET
DTSTART:20221030T010000
END:STANDARD
BEGIN:DAYLIGHT
TZOFFSETFROM:+0100
TZOFFSETTO:+0200
TZNAME:CEST
DTSTART:20230326T010000
END:DAYLIGHT
BEGIN:STANDARD
TZOFFSETFROM:+0200
TZOFFSETTO:+0100
TZNAME:CET
DTSTART:20231029T010000
END:STANDARD
END:VTIMEZONE
BEGIN:VEVENT
DTSTART;TZID=Europe/Oslo:20220610T100000
DTEND;TZID=Europe/Oslo:20220610T170000
DTSTAMP:20260423T140319
CREATED:20220218T194143Z
LAST-MODIFIED:20220218T194144Z
UID:4735-1654855200-1654880400@www.norskstrikkeforbund.no
SUMMARY:Midtnorsk Kultur- og Strikkefestival
DESCRIPTION:ORKANGER
URL:https://www.norskstrikkeforbund.no/kalender/midtnorsk-kultur-og-strikkefestival-4/
END:VEVENT
BEGIN:VEVENT
DTSTART;TZID=Europe/Oslo:20220611T100000
DTEND;TZID=Europe/Oslo:20220611T170000
DTSTAMP:20260423T140319
CREATED:20220218T194234Z
LAST-MODIFIED:20220411T214943Z
UID:4738-1654941600-1654966800@www.norskstrikkeforbund.no
SUMMARY:MIDTNORSK KULTUR- OG STRIKKEFESTIVAL
DESCRIPTION:ORKANGER
URL:https://www.norskstrikkeforbund.no/kalender/strikkefestivalen-i-fredrikstad-4/
END:VEVENT
BEGIN:VEVENT
DTSTART;TZID=Europe/Oslo:20220612T100000
DTEND;TZID=Europe/Oslo:20220612T160000
DTSTAMP:20260423T140319
CREATED:20220218T194328Z
LAST-MODIFIED:20220411T215047Z
UID:4741-1655028000-1655049600@www.norskstrikkeforbund.no
SUMMARY:MIDTNORSKE KULTUR- OG STRIKKEFESTIVAL
DESCRIPTION:ORKANGER
URL:https://www.norskstrikkeforbund.no/kalender/strikkefestivalen-i-fredrikstad-5/
END:VEVENT
END:VCALENDAR