BEGIN:VCALENDAR
VERSION:2.0
PRODID:-//Norsk strikkeforbund - ECPv6.15.18//NONSGML v1.0//EN
CALSCALE:GREGORIAN
METHOD:PUBLISH
X-WR-CALNAME:Norsk strikkeforbund
X-ORIGINAL-URL:https://www.norskstrikkeforbund.no
X-WR-CALDESC:Arrangement for Norsk strikkeforbund
REFRESH-INTERVAL;VALUE=DURATION:PT1H
X-Robots-Tag:noindex
X-PUBLISHED-TTL:PT1H
BEGIN:VTIMEZONE
TZID:Europe/Oslo
BEGIN:DAYLIGHT
TZOFFSETFROM:+0100
TZOFFSETTO:+0200
TZNAME:CEST
DTSTART:20210328T010000
END:DAYLIGHT
BEGIN:STANDARD
TZOFFSETFROM:+0200
TZOFFSETTO:+0100
TZNAME:CET
DTSTART:20211031T010000
END:STANDARD
BEGIN:DAYLIGHT
TZOFFSETFROM:+0100
TZOFFSETTO:+0200
TZNAME:CEST
DTSTART:20220327T010000
END:DAYLIGHT
BEGIN:STANDARD
TZOFFSETFROM:+0200
TZOFFSETTO:+0100
TZNAME:CET
DTSTART:20221030T010000
END:STANDARD
BEGIN:DAYLIGHT
TZOFFSETFROM:+0100
TZOFFSETTO:+0200
TZNAME:CEST
DTSTART:20230326T010000
END:DAYLIGHT
BEGIN:STANDARD
TZOFFSETFROM:+0200
TZOFFSETTO:+0100
TZNAME:CET
DTSTART:20231029T010000
END:STANDARD
END:VTIMEZONE
BEGIN:VEVENT
DTSTART;TZID=Europe/Oslo:20220203T180000
DTEND;TZID=Europe/Oslo:20220203T200000
DTSTAMP:20260423T190759
CREATED:20210608T193427Z
LAST-MODIFIED:20220106T195208Z
UID:4278-1643911200-1643918400@www.norskstrikkeforbund.no
SUMMARY:DIGITALT FOREDRAG
DESCRIPTION:Tema:  Syrefarging/hjemmefarging av garn med Janne og Elise (fra Fargeverket)
URL:https://www.norskstrikkeforbund.no/kalender/digitalt-foredrag-4/
END:VEVENT
BEGIN:VEVENT
DTSTART;TZID=Europe/Oslo:20220207T190000
DTEND;TZID=Europe/Oslo:20220207T210000
DTSTAMP:20260423T190759
CREATED:20210608T193655Z
LAST-MODIFIED:20220106T195421Z
UID:4281-1644260400-1644267600@www.norskstrikkeforbund.no
SUMMARY:DIGITAL STRIKKEKAFE
DESCRIPTION:Kveldens vertinne er Hanne.
URL:https://www.norskstrikkeforbund.no/kalender/digital-workshop/
END:VEVENT
BEGIN:VEVENT
DTSTART;TZID=Europe/Oslo:20220217T190000
DTEND;TZID=Europe/Oslo:20220217T210000
DTSTAMP:20260423T190759
CREATED:20210608T193753Z
LAST-MODIFIED:20220211T142418Z
UID:4284-1645124400-1645131600@www.norskstrikkeforbund.no
SUMMARY:DIGITAL STRIKKEKAFE
DESCRIPTION:Margrete & Terje inviterer til uhøytidlig strikkekafe med skravl\, strikking noggo attåt...  Dette er jo uken med VALENTIN\, så nå er vi spente om noen fikk eller ga bort noe strikka i Valentingave...  \n\n\n\nOg så har vi tenkt å snakke litt om STRIKEKFESTIVALER\, både her i Norge og utenomlands.  Hold av dato og klokkeslett\, så ses vi...
URL:https://www.norskstrikkeforbund.no/kalender/digital-strikkekafe-5/
END:VEVENT
BEGIN:VEVENT
DTSTART;TZID=Europe/Oslo:20220220T180000
DTEND;TZID=Europe/Oslo:20220220T200000
DTSTAMP:20260423T190759
CREATED:20220211T142732Z
LAST-MODIFIED:20220211T142733Z
UID:4708-1645380000-1645387200@www.norskstrikkeforbund.no
SUMMARY:DIGITALT STYREMØTE - tema: Årsmøte og STRIKKESAMLING
DESCRIPTION:
URL:https://www.norskstrikkeforbund.no/kalender/digitalt-styremote-tema-arsmote-og-strikkesamling/
END:VEVENT
BEGIN:VEVENT
DTSTART;TZID=Europe/Oslo:20220228T180000
DTEND;TZID=Europe/Oslo:20220228T200000
DTSTAMP:20260423T190759
CREATED:20210531T204454Z
LAST-MODIFIED:20210531T204455Z
UID:4229-1646071200-1646078400@www.norskstrikkeforbund.no
SUMMARY:DIGITALT STYREMØTE
DESCRIPTION:
URL:https://www.norskstrikkeforbund.no/kalender/digitalt-styremote-8/
END:VEVENT
END:VCALENDAR