BEGIN:VCALENDAR
VERSION:2.0
PRODID:-//Norsk strikkeforbund - ECPv6.15.18//NONSGML v1.0//EN
CALSCALE:GREGORIAN
METHOD:PUBLISH
X-WR-CALNAME:Norsk strikkeforbund
X-ORIGINAL-URL:https://www.norskstrikkeforbund.no
X-WR-CALDESC:Arrangement for Norsk strikkeforbund
REFRESH-INTERVAL;VALUE=DURATION:PT1H
X-Robots-Tag:noindex
X-PUBLISHED-TTL:PT1H
BEGIN:VTIMEZONE
TZID:Europe/Oslo
BEGIN:DAYLIGHT
TZOFFSETFROM:+0100
TZOFFSETTO:+0200
TZNAME:CEST
DTSTART:20200329T010000
END:DAYLIGHT
BEGIN:STANDARD
TZOFFSETFROM:+0200
TZOFFSETTO:+0100
TZNAME:CET
DTSTART:20201025T010000
END:STANDARD
BEGIN:DAYLIGHT
TZOFFSETFROM:+0100
TZOFFSETTO:+0200
TZNAME:CEST
DTSTART:20210328T010000
END:DAYLIGHT
BEGIN:STANDARD
TZOFFSETFROM:+0200
TZOFFSETTO:+0100
TZNAME:CET
DTSTART:20211031T010000
END:STANDARD
BEGIN:DAYLIGHT
TZOFFSETFROM:+0100
TZOFFSETTO:+0200
TZNAME:CEST
DTSTART:20220327T010000
END:DAYLIGHT
BEGIN:STANDARD
TZOFFSETFROM:+0200
TZOFFSETTO:+0100
TZNAME:CET
DTSTART:20221030T010000
END:STANDARD
END:VTIMEZONE
BEGIN:VEVENT
DTSTART;TZID=Europe/Oslo:20211206T180000
DTEND;TZID=Europe/Oslo:20211206T200000
DTSTAMP:20260423T222132
CREATED:20210607T185350Z
LAST-MODIFIED:20210607T185351Z
UID:4271-1638813600-1638820800@www.norskstrikkeforbund.no
SUMMARY:DIGITALT FOREDRAG
DESCRIPTION:Tema: Bærekraftig norsk ull
URL:https://www.norskstrikkeforbund.no/kalender/digitalt-foredrag-3/
END:VEVENT
BEGIN:VEVENT
DTSTART;TZID=Europe/Oslo:20211213T180000
DTEND;TZID=Europe/Oslo:20211213T200000
DTSTAMP:20260423T222132
CREATED:20210531T204234Z
LAST-MODIFIED:20211025T193119Z
UID:4223-1639418400-1639425600@www.norskstrikkeforbund.no
SUMMARY:DIGITALT STYREMØTE
DESCRIPTION:
URL:https://www.norskstrikkeforbund.no/kalender/digitalt-styremote-6/
END:VEVENT
END:VCALENDAR