BEGIN:VCALENDAR
VERSION:2.0
PRODID:-//Norsk strikkeforbund - ECPv6.15.18//NONSGML v1.0//EN
CALSCALE:GREGORIAN
METHOD:PUBLISH
X-ORIGINAL-URL:https://www.norskstrikkeforbund.no
X-WR-CALDESC:Arrangement for Norsk strikkeforbund
REFRESH-INTERVAL;VALUE=DURATION:PT1H
X-Robots-Tag:noindex
X-PUBLISHED-TTL:PT1H
BEGIN:VTIMEZONE
TZID:Europe/Oslo
BEGIN:DAYLIGHT
TZOFFSETFROM:+0100
TZOFFSETTO:+0200
TZNAME:CEST
DTSTART:20200329T010000
END:DAYLIGHT
BEGIN:STANDARD
TZOFFSETFROM:+0200
TZOFFSETTO:+0100
TZNAME:CET
DTSTART:20201025T010000
END:STANDARD
BEGIN:DAYLIGHT
TZOFFSETFROM:+0100
TZOFFSETTO:+0200
TZNAME:CEST
DTSTART:20210328T010000
END:DAYLIGHT
BEGIN:STANDARD
TZOFFSETFROM:+0200
TZOFFSETTO:+0100
TZNAME:CET
DTSTART:20211031T010000
END:STANDARD
BEGIN:DAYLIGHT
TZOFFSETFROM:+0100
TZOFFSETTO:+0200
TZNAME:CEST
DTSTART:20220327T010000
END:DAYLIGHT
BEGIN:STANDARD
TZOFFSETFROM:+0200
TZOFFSETTO:+0100
TZNAME:CET
DTSTART:20221030T010000
END:STANDARD
END:VTIMEZONE
BEGIN:VEVENT
DTSTART;TZID=Europe/Oslo:20210908T183000
DTEND;TZID=Europe/Oslo:20210908T203000
DTSTAMP:20260424T022623
CREATED:20210811T182659Z
LAST-MODIFIED:20210813T172927Z
UID:4372-1631125800-1631133000@www.norskstrikkeforbund.no
SUMMARY:Er du klar for høstens første STRIKKEKAFE?
DESCRIPTION:Kristin & Terje inviterer til høstens første digitale StrikkeKafe onsdag 8. september 18.30. \n\n\n\nTema: Hva har du strikket på i sommer?  Hva har du rukket å gjøre ferdig?  Hva ble det aldri noe av?  Har du vært på garnsafarie?  Kjøpt mye garn i sommer? \n\n\n\nSELVFØLGELIG blir det småsnakk\, nyheter og litt informasjon\, og vi vil presentere høstens foredrag for dere også. \n\n\n\nVi gleder oss til å treffe dere igjen... \n\n\n\n(Våre digitale StrikkeKafeer er gratis\, og vi vil sende ut en e-post med linken til Zoom noen dager i forkant.)
URL:https://www.norskstrikkeforbund.no/kalender/er-du-klar-for-hostens-forste-strikkekafe/
END:VEVENT
BEGIN:VEVENT
DTSTART;TZID=Europe/Oslo:20210922T180000
DTEND;TZID=Europe/Oslo:20210922T200000
DTSTAMP:20260424T022623
CREATED:20210908T213456Z
LAST-MODIFIED:20210908T213457Z
UID:4438-1632333600-1632340800@www.norskstrikkeforbund.no
SUMMARY:Digitalt foredrag med STRIKKEZILLA: Sokkestrikk med ulike hælalternativer.
DESCRIPTION:
URL:https://www.norskstrikkeforbund.no/kalender/digitalt-foredrag-med-strikkezilla-sokkestrikk-med-ulike-haelalternativer/
END:VEVENT
BEGIN:VEVENT
DTSTART;TZID=Europe/Oslo:20210927T180000
DTEND;TZID=Europe/Oslo:20210927T200000
DTSTAMP:20260424T022623
CREATED:20210531T203626Z
LAST-MODIFIED:20210830T171423Z
UID:4208-1632765600-1632772800@www.norskstrikkeforbund.no
SUMMARY:
DESCRIPTION:
URL:https://www.norskstrikkeforbund.no/kalender/digitalt-styremote-4/
END:VEVENT
END:VCALENDAR