BEGIN:VCALENDAR
VERSION:2.0
PRODID:-//Norsk strikkeforbund - ECPv6.15.20//NONSGML v1.0//EN
CALSCALE:GREGORIAN
METHOD:PUBLISH
X-ORIGINAL-URL:https://www.norskstrikkeforbund.no
X-WR-CALDESC:Arrangement for Norsk strikkeforbund
REFRESH-INTERVAL;VALUE=DURATION:PT1H
X-Robots-Tag:noindex
X-PUBLISHED-TTL:PT1H
BEGIN:VTIMEZONE
TZID:Europe/Oslo
BEGIN:DAYLIGHT
TZOFFSETFROM:+0100
TZOFFSETTO:+0200
TZNAME:CEST
DTSTART:20170326T010000
END:DAYLIGHT
BEGIN:STANDARD
TZOFFSETFROM:+0200
TZOFFSETTO:+0100
TZNAME:CET
DTSTART:20171029T010000
END:STANDARD
BEGIN:DAYLIGHT
TZOFFSETFROM:+0100
TZOFFSETTO:+0200
TZNAME:CEST
DTSTART:20180325T010000
END:DAYLIGHT
BEGIN:STANDARD
TZOFFSETFROM:+0200
TZOFFSETTO:+0100
TZNAME:CET
DTSTART:20181028T010000
END:STANDARD
BEGIN:DAYLIGHT
TZOFFSETFROM:+0100
TZOFFSETTO:+0200
TZNAME:CEST
DTSTART:20190331T010000
END:DAYLIGHT
BEGIN:STANDARD
TZOFFSETFROM:+0200
TZOFFSETTO:+0100
TZNAME:CET
DTSTART:20191027T010000
END:STANDARD
END:VTIMEZONE
BEGIN:VEVENT
DTSTART;VALUE=DATE:20181005
DTEND;VALUE=DATE:20181008
DTSTAMP:20260426T040658
CREATED:20180428T183844Z
LAST-MODIFIED:20180428T183844Z
UID:2446-1538697600-1538956799@www.norskstrikkeforbund.no
SUMMARY:Midtnorsk Strikkefestival
DESCRIPTION:Midtnorsk Strikkefestival
URL:https://www.norskstrikkeforbund.no/kalender/midtnorsk-strikkefestival/
LOCATION:Orkanger
END:VEVENT
BEGIN:VEVENT
DTSTART;VALUE=DATE:20181026
DTEND;VALUE=DATE:20181029
DTSTAMP:20260426T040658
CREATED:20180428T192329Z
LAST-MODIFIED:20180428T192329Z
UID:2456-1540512000-1540771199@www.norskstrikkeforbund.no
SUMMARY:Strikkehelg 2018 Stavanger
DESCRIPTION:Strikk og Drikk Strikkehelg 2018 i Stavanger
URL:https://www.norskstrikkeforbund.no/kalender/strikkehelg-2018-stavanger/
END:VEVENT
END:VCALENDAR