BEGIN:VCALENDAR
VERSION:2.0
PRODID:-//Norsk strikkeforbund - ECPv6.15.20//NONSGML v1.0//EN
CALSCALE:GREGORIAN
METHOD:PUBLISH
X-WR-CALNAME:Norsk strikkeforbund
X-ORIGINAL-URL:https://www.norskstrikkeforbund.no
X-WR-CALDESC:Arrangement for Norsk strikkeforbund
REFRESH-INTERVAL;VALUE=DURATION:PT1H
X-Robots-Tag:noindex
X-PUBLISHED-TTL:PT1H
BEGIN:VTIMEZONE
TZID:Europe/Oslo
BEGIN:DAYLIGHT
TZOFFSETFROM:+0100
TZOFFSETTO:+0200
TZNAME:CEST
DTSTART:20170326T010000
END:DAYLIGHT
BEGIN:STANDARD
TZOFFSETFROM:+0200
TZOFFSETTO:+0100
TZNAME:CET
DTSTART:20171029T010000
END:STANDARD
BEGIN:DAYLIGHT
TZOFFSETFROM:+0100
TZOFFSETTO:+0200
TZNAME:CEST
DTSTART:20180325T010000
END:DAYLIGHT
BEGIN:STANDARD
TZOFFSETFROM:+0200
TZOFFSETTO:+0100
TZNAME:CET
DTSTART:20181028T010000
END:STANDARD
BEGIN:DAYLIGHT
TZOFFSETFROM:+0100
TZOFFSETTO:+0200
TZNAME:CEST
DTSTART:20190331T010000
END:DAYLIGHT
BEGIN:STANDARD
TZOFFSETFROM:+0200
TZOFFSETTO:+0100
TZNAME:CET
DTSTART:20191027T010000
END:STANDARD
END:VTIMEZONE
BEGIN:VEVENT
DTSTART;VALUE=DATE:20180907
DTEND;VALUE=DATE:20180910
DTSTAMP:20260426T053519
CREATED:20180428T194403Z
LAST-MODIFIED:20180428T194403Z
UID:2458-1536278400-1536537599@www.norskstrikkeforbund.no
SUMMARY:Lurøy Strikkefestival
DESCRIPTION:Lurøy Strikkefestival
URL:https://www.norskstrikkeforbund.no/kalender/luroy-strikkefestival-2/
END:VEVENT
BEGIN:VEVENT
DTSTART;VALUE=DATE:20180921
DTEND;VALUE=DATE:20180924
DTSTAMP:20260426T053519
CREATED:20180428T194911Z
LAST-MODIFIED:20180428T194911Z
UID:2460-1537488000-1537747199@www.norskstrikkeforbund.no
SUMMARY:Strikkefestivalen Fredrikstad
DESCRIPTION:Strikkefestivalen Gamlebyen i Fredrikstad
URL:https://www.norskstrikkeforbund.no/kalender/strikkefestivalen-fredrikstad/
END:VEVENT
BEGIN:VEVENT
DTSTART;VALUE=DATE:20180928
DTEND;VALUE=DATE:20181001
DTSTAMP:20260426T053519
CREATED:20180428T184235Z
LAST-MODIFIED:20180428T184235Z
UID:2448-1538092800-1538351999@www.norskstrikkeforbund.no
SUMMARY:Bergen Strikkefestival
DESCRIPTION:Bergen Strikkefestival
URL:https://www.norskstrikkeforbund.no/kalender/bergen-strikkefestival-3/
ORGANIZER;CN="Bergen trikotasjemuserum":MAILTO:ellenmarierisbruna@muho.no
END:VEVENT
END:VCALENDAR